BEGIN:VCALENDAR
VERSION:2.0
PRODID:-//ChamberMaster//Event Calendar 2.0//EN
METHOD:PUBLISH
X-PUBLISHED-TTL:P3D
REFRESH-INTERVAL:P3D
CALSCALE:GREGORIAN
BEGIN:VEVENT
DTSTART:20201209T163000Z
DTEND:20201209T180000Z
X-MICROSOFT-CDO-ALLDAYEVENT:FALSE
SUMMARY:2020 Business Women's Alliance Holiday Mixer
DESCRIPTION:**Please note that the location has changed to the Newnan Utilities Cabin.** Haul out the holly\, unbox the holiday cheer\, and save the date for the Business Women's Alliance Holiday Mixer\, presented by Progressive Heating\, Air\, and Plumbing in partnership with Carrier. This hopeful and celebratory "adios" to 2020 will feature a delectable lunch from Roly Poly\, holiday cheer supported by Blue Fern Merchant\, fabulous door prizes\, a "white elephant" gift exchange\, and much-needed (but responsibly distanced) quality time with friends\, peers\, and associates. Don't delay\, as space is limited!
X-ALT-DESC;FMTTYPE=text/html:<p><span style="font-size:14px\;">**Please note that the location has changed to the Newnan Utilities Cabin.** Haul out the holly\, unbox the holiday cheer\, and save the date for the Business Women&#39\;s Alliance Holiday Mixer\, presented by Progressive Heating\, Air\, and Plumbing in partnership with Carrier. This hopeful and celebratory &quot\;adios&quot\; to 2020 will feature&nbsp\;a delectable lunch from Roly Poly\, holiday cheer supported by Blue Fern Merchant\, fabulous door prizes\, a &quot\;white elephant&quot\; gift exchange\, and much-needed (but responsibly distanced) quality time with friends\, peers\, and associates. Don&#39\;t delay\, as space is limited!</span></p>\n
LOCATION:Newnan Utilities Cabin 1 Young Ave.| Newnan
UID:e.468.15571
SEQUENCE:3
DTSTAMP:20260425T192021Z
URL:https://www.newnancowetachamber.org/events/details/2020-business-women-s-alliance-holiday-mixer-15571
END:VEVENT

END:VCALENDAR
