BEGIN:VCALENDAR
VERSION:2.0
PRODID:-//ChamberMaster//Event Calendar 2.0//EN
METHOD:PUBLISH
X-PUBLISHED-TTL:P3D
REFRESH-INTERVAL:P3D
CALSCALE:GREGORIAN
BEGIN:VEVENT
DTSTART:20201001T140000Z
DTEND:20201001T150000Z
X-MICROSOFT-CDO-ALLDAYEVENT:FALSE
SUMMARY:2020 Coweta Delegation Legislative Update
DESCRIPTION:Join the Newnan-Coweta Chamber and the elected Coweta County Delegation for an annual review of the activities and actions resulting from the recent Georgia General Assembly legislative session. Learn more about legislation that affects Coweta County and what's on the horizon for the future. Sponsored by AT&T\, this virtual call will be live and interactive\, with an opportunity to ask questions about local and state legislation. The call will be recorded if you're unable to join us live. \n\n \n\nPlease register via Zoom: https://bit.ly/3cCHrgf
X-ALT-DESC;FMTTYPE=text/html:Join the Newnan-Coweta Chamber and the elected Coweta County Delegation for an annual review of the activities and actions resulting from the recent Georgia General Assembly legislative session.&nbsp\;Learn more about legislation that affects Coweta County and what&#39\;s on the horizon for the future. Sponsored by AT&amp\;T\, this virtual call will be live and interactive\, with an opportunity to ask questions about local and state legislation. The call will be recorded if you&#39\;re unable to join us live.&nbsp\;<br />\n&nbsp\;<br />\nPlease register via Zoom:&nbsp\;<a href="https://bit.ly/3cCHrgf">https://bit.ly/3cCHrgf</a>
LOCATION:Virtual Please register via Zoom: https://bit.ly/3cCHrgf
UID:e.468.16811
SEQUENCE:3
DTSTAMP:20260425T220637Z
URL:https://www.newnancowetachamber.org/events/details/2020-coweta-delegation-legislative-update-16811
END:VEVENT

END:VCALENDAR
