BEGIN:VCALENDAR
VERSION:2.0
PRODID:-//ChamberMaster//Event Calendar 2.0//EN
METHOD:PUBLISH
X-PUBLISHED-TTL:P3D
REFRESH-INTERVAL:P3D
CALSCALE:GREGORIAN
BEGIN:VEVENT
DTSTART:20200806T200000Z
DTEND:20200806T210000Z
X-MICROSOFT-CDO-ALLDAYEVENT:FALSE
SUMMARY:2020 Finance Committee Meeting #3
DESCRIPTION:
X-ALT-DESC;FMTTYPE=text/html:
LOCATION:
UID:e.468.15472
SEQUENCE:3
DTSTAMP:20260426T030806Z
URL:https://www.newnancowetachamber.org/events/details/2020-finance-committee-meeting-3-15472
END:VEVENT

END:VCALENDAR
