BEGIN:VCALENDAR
VERSION:2.0
PRODID:-//ChamberMaster//Event Calendar 2.0//EN
METHOD:PUBLISH
X-PUBLISHED-TTL:P3D
REFRESH-INTERVAL:P3D
CALSCALE:GREGORIAN
BEGIN:VEVENT
DTSTART:20201105T210000Z
DTEND:20201105T220000Z
X-MICROSOFT-CDO-ALLDAYEVENT:FALSE
SUMMARY:2020 Finance Committee Meeting #4
DESCRIPTION:Finance Committee meeting at the CEC
X-ALT-DESC;FMTTYPE=text/html:Finance Committee meeting at the CEC
LOCATION:Central Educational Center 160 MLK Jr. Dr. | Newnan
UID:e.468.15543
SEQUENCE:3
DTSTAMP:20260425T203657Z
URL:https://www.newnancowetachamber.org/events/details/2020-finance-committee-meeting-4-15543
END:VEVENT

END:VCALENDAR
