BEGIN:VCALENDAR
VERSION:2.0
PRODID:-//ChamberMaster//Event Calendar 2.0//EN
METHOD:PUBLISH
X-PUBLISHED-TTL:P3D
REFRESH-INTERVAL:P3D
CALSCALE:GREGORIAN
BEGIN:VEVENT
DTSTART:20201119T190000Z
DTEND:20201119T220000Z
X-MICROSOFT-CDO-ALLDAYEVENT:FALSE
SUMMARY:2020 Newnan-Coweta Chamber Bowling Adventure
DESCRIPTION:One of our most popular events is back\, and you won't want to miss this RED CARPET event! This year's theme is Strike A Pose\, so put on your best clothes and bowl a strike with the Newnan-Coweta Chamber. Step into the spotlight and we promise you will be leaving with a paparazzi. This event is an excellent networking and team building opportunity\, while offering exclusive sponsorships. Get ready to bowl\, drink\, dine\, network\, and walk down the red carpet!\n\n\n\n*Special Offer! Can't use a team\, but want to support the Chamber and Coweta's essential workers? Purchase and donate a team AND you'll receive a complimentary sweep as our thank you for thinking of the educators\, healthcare workers\, public servants\, and dedicated local professionals who could use a much-needed break!*\n\n\n\nSingle Player Registration - $50 | Team of 4-6 Players - $250\nBranded Sweep- $250\n\nPurchase a sweep\, a la carte! Enjoy your branding on a pin sweep for an entire year and realize more than 350\,000 impressions!! The Chamber will create your sweep for placement on one (1) of forty (40) lanes featuring custom branding. Choose your logo or a design or graphic of your choosing. Remember\, less is more for high-visibility.\n\nSpotlight Bundle - $400 ($100 Savings!)\n\nIncludes 1 Team and 1 Sweep (Visible for a entire calendar year by more than 350\,000 patrons)\n\nMarquee Sponsor $750\n\nPurchase 1 team and 1 Sweep (Visible for a entire calendar year by more than 350\,000 patrons) with Secondary logo placement on all print and digital collateral\n\nRed Carpet Sponsor- $1\,250\n\nPurchase 2 teams and 2 Sweeps (Visible for a entire calendar year by more than 350\,000 patrons) with Secondary logo placement on all print and digital collateral
X-ALT-DESC;FMTTYPE=text/html:<span style="font-size:14px\;"><span style="font-family:tahoma\;">One of our most popular events is back\, and you won&#39\;t want to miss this RED CARPET event! This year&#39\;s theme is Strike A Pose\, so put on your best clothes and bowl a strike with the Newnan-Coweta Chamber. Step into the spotlight and we promise you will be leaving with a paparazzi. This event is an excellent networking and team building opportunity\, while offering exclusive sponsorships. Get ready to bowl\, drink\, dine\, network\, and walk down the red carpet!</span></span><br />\n<br />\n<strong><span style="font-size:14px\;"><span style="font-family:tahoma\;">*Special Offer! Can&#39\;t use a team\, but want to support the Chamber and Coweta&#39\;s essential workers? Purchase and donate a team AND you&#39\;ll receive a complimentary sweep as our thank you for thinking of the educators\, healthcare workers\, public servants\, and dedicated local professionals who could use a much-needed break!*</span></span></strong><br />\n<br />\n<span style="font-size:14px\;"><span style="font-family:tahoma\;"><span style="color: rgb(166\, 0\, 0)\; font-weight: 700\; white-space: pre-wrap\; background-color: rgb(255\, 255\, 255)\;">Single Player Registration - $50 | Team of 4-6 Players - $250</span></span></span>\n<div style="font-family: Arial\, Verdana\, Helvetica\, sans-serif\; font-size: 14px\; white-space: pre-wrap\; background-color: rgb(255\, 255\, 255)\;"><span style="font-size:14px\;"><span style="font-family:tahoma\;"><span style="color: rgb(166\, 0\, 0)\; font-weight: bold\;">Branded Sweep- $250</span></span></span></div>\n\n<div style="font-family: Arial\, Verdana\, Helvetica\, sans-serif\; font-size: 14px\; white-space: pre-wrap\; background-color: rgb(255\, 255\, 255)\;"><span style="font-size:14px\;"><span style="font-family:tahoma\;">Purchase a sweep\, a la carte! Enjoy your branding on a pin sweep for an entire year and realize more than 350\,000 impressions!! The Chamber will create your sweep for placement on one (1) of forty (40) lanes featuring custom branding. Choose your logo or a design or graphic of your choosing. Remember\, less is more for high-visibility.</span></span><br />\n<span style="color: rgb(166\, 0\, 0)\; font-weight: bold\; font-family: tahoma\;">Spotlight Bundle - $400 ($100 Savings!)</span><br />\n<span style="font-family: tahoma\;">Includes 1 Team and 1 Sweep (Visible for a entire calendar year by more than 350\,000 patrons)</span><br />\n<span style="color: rgb(166\, 0\, 0)\; font-weight: bold\; font-family: tahoma\;">Marquee Sponsor $750</span><br />\n<span style="font-family: tahoma\;">Purchase 1 team and 1 Sweep (Visible for a entire calendar year by more than 350\,000 patrons) with Secondary logo placement on all print and digital collateral</span><br />\n<span style="color: rgb(166\, 0\, 0)\; font-family: tahoma\; font-weight: bold\;">Red Carpet Sponsor- $1\,250</span><br />\n<span style="font-family: tahoma\;">Purchase 2 teams and 2 Sweeps (Visible for a entire calendar year by more than 350\,000 patrons) with Secondary logo placement on all print and digital collateral</span></div>\n
LOCATION:Junction Lanes Family Entertainment Center 141 Newnan Station Dr. | Newnan
UID:e.468.16826
SEQUENCE:3
DTSTAMP:20260425T205858Z
URL:https://www.newnancowetachamber.org/events/details/2020-newnan-coweta-chamber-bowling-adventure-16826
END:VEVENT

END:VCALENDAR
