BEGIN:VCALENDAR
VERSION:2.0
PRODID:-//ChamberMaster//Event Calendar 2.0//EN
METHOD:PUBLISH
X-PUBLISHED-TTL:P3D
REFRESH-INTERVAL:P3D
CALSCALE:GREGORIAN
BEGIN:VEVENT
DTSTART:20201202T163000Z
DTEND:20201202T180000Z
X-MICROSOFT-CDO-ALLDAYEVENT:FALSE
SUMMARY:2020 State of the Community Luncheon: Criminal Justice and Public Safety
DESCRIPTION:Register now to join us at our State of the Community drive-in luncheon and learn more about criminal justice and public safety in Coweta County. This unique drive-in lunch-time offering (RESERVATIONS REQUIRED) will feature a diverse array of panelists including:\n\n	James Yarbrough\, Chief Deputy\, Coweta County Sheriff's Office\n	Buster Meadows\, Police Chief\, Newnan Police Department\n	Russell Shoemake\, Community Paramedic for Coweta Cares\n	Joseph Wyant\, Judge\, Coweta County and Heard County Juvenile Courts\n	Hank Arnold\, Coweta FORCE\n\nVia our Equality of Opportunity committee as part of the Advancing Coweta Economic Recovery task force\, the Chamber seeks to develop and advance data-driven business and policy solutions to bridge opportunity gaps and ensure that Black Americans and people of color have greater opportunities to succeed in Coweta County.\n\n\n\nOne of four segments of our agenda outlines ways in which the Black community is most affected by inequities in the criminal justice system\, as well as solutions that may be implemented by the private sector in addressing the same. \n\n\n\nThe movement to end mass incarceration and police violence is gaining steam. Communities are calling for a smaller justice system that is no longer the primary response to many social issues\, from behavioral health disorders to homelessness to school discipline. How can the business community respond to the calls for change? What role does the private sector play in advancing equality of opportunity? \n\n\n\nJoin us to hear what our panelists have to say\, enjoy the program from the comfort of your car via audio streaming to your radio\, and enjoy a delicious boxed lunch from Honey Baked Ham!
X-ALT-DESC;FMTTYPE=text/html:<span style="font-size:14px\;"><span style="font-family:tahoma\;"><span style="background:white\;"><span style="color:#333333\;">Register now to join us at our State of the Community drive-in luncheon and learn more about criminal justice and public safety in Coweta County.&nbsp\;This unique drive-in lunch-time offering (RESERVATIONS REQUIRED) will feature a diverse array of panelists including:</span></span></span></span>\n<ul>\n	<li style="color:#333333\;line-height:normal\;"><span style="font-size:14px\;"><span style="font-family:tahoma\;">James Yarbrough\, Chief Deputy\, Coweta County Sheriff&rsquo\;s Office</span></span></li>\n	<li style="color:#333333\;line-height:normal\;"><span style="font-size:14px\;"><span style="font-family:tahoma\;">Buster Meadows\, Police Chief\, Newnan Police Department</span></span></li>\n	<li style="color:#333333\;line-height:normal\;"><span style="font-size:14px\;"><span style="font-family:tahoma\;">Russell Shoemake\, Community Paramedic for Coweta Cares</span></span></li>\n	<li style="color:#333333\;line-height:normal\;"><span style="font-size:14px\;"><span style="font-family:tahoma\;">Joseph Wyant\, Judge\, Coweta County and Heard County Juvenile Courts</span></span></li>\n	<li style="color:#333333\;line-height:normal\;"><span style="font-size:14px\;"><span style="font-family:tahoma\;">Hank Arnold\, Coweta FORCE</span></span></li>\n</ul>\n<span style="font-size:14px\;"><span style="font-family:tahoma\;"><span style="color:#333333\;"><span style="background:white\;">Via our Equality of Opportunity committee as part of the Advancing Coweta Economic Recovery task force\, the Chamber seeks to develop and advance data-driven business and policy solutions to bridge opportunity gaps and ensure that Black Americans and people of color have greater opportunities to succeed in Coweta County.</span><br />\n<br />\n<span style="background:white\;">One of four segments of our agenda outlines ways in which the Black community is most affected by inequities in the criminal justice system\, as well as solutions that may be implemented by the private sector in addressing the same.&nbsp\;</span><br />\n<br />\n<span style="background:white\;">The movement to end mass incarceration and police violence is gaining steam. Communities are calling for a smaller justice system that is no longer the primary response to many social issues\, from behavioral health disorders to homelessness to school discipline. How can the business community respond to the calls for change?&nbsp\;What role does the private sector play in advancing equality of opportunity?&nbsp\;</span></span></span></span><br />\n<br />\n<span style="font-size: 10.5pt\; font-family: Tahoma\, sans-serif\; background-image: initial\; background-position: initial\; background-size: initial\; background-repeat: initial\; background-attachment: initial\; background-origin: initial\; background-clip: initial\;">Join us to hear what our panelists have to say\, enjoy the program from the comfort of your car via audio streaming to your radio\, and enjoy a delicious boxed lunch from Honey Baked Ham!</span>
LOCATION:Ashley Park | Parking lot next to Firehouse Subs 226 Newnan Crossing Bypass | Newnan
UID:e.468.15539
SEQUENCE:3
DTSTAMP:20260425T191940Z
URL:https://www.newnancowetachamber.org/events/details/2020-state-of-the-community-luncheon-criminal-justice-and-public-safety-15539
END:VEVENT

END:VCALENDAR
