BEGIN:VCALENDAR
VERSION:2.0
PRODID:-//ChamberMaster//Event Calendar 2.0//EN
METHOD:PUBLISH
X-PUBLISHED-TTL:P3D
REFRESH-INTERVAL:P3D
CALSCALE:GREGORIAN
BEGIN:VEVENT
DTSTART:20200903T153000Z
DTEND:20200903T170000Z
X-MICROSOFT-CDO-ALLDAYEVENT:FALSE
SUMMARY:2020 State of the Community Luncheon | Education
DESCRIPTION:Drive up\, drive in\, and drive prosperity in joining us for a unique spin on our quarterly State of the Community luncheon series\, presented by NuLink | WOW!. We'll physically distance as we come together to learn about the State of Education in Coweta County and what the "next normal' means for our students\, parents\, teachers and administrators.\n\n\n\nThis unique lunch-time offering will feature a diverse array of panelists including: \n\n	Dr. Evan Horton\, Superintendent\, Coweta County School System\n	Dr. Brendan Kelly\, President\, University of West Georgia\n	Dr. Scott Rule\, President\, West Georgia Technical College\n	And special guests!\n\nEnjoy the program from the comfort of your vehicle by tuning into a dedicated radio stream or bring stadium chairs to participate in the open air. We'll provide lunch courtesy of Dunc's BBQ\; if you prefer not to eat in your car\, you'll take a gift card home with you!
X-ALT-DESC;FMTTYPE=text/html:<span style="font-size:14px\;"><span style="font-family:tahoma\;">Drive up\, drive in\, and drive prosperity in joining us for a unique spin on our quarterly State of the Community luncheon series\, presented by NuLink | WOW!. We&#39\;ll physically distance as we come together to learn about the State of Education in Coweta County and what the &quot\;next normal&#39\; means for our students\, parents\, teachers and administrators.<br />\n<br />\nThis unique lunch-time offering will feature a diverse array of panelists including:&nbsp\;</span></span>\n<ul>\n	<li><span style="font-size:14px\;"><span style="font-family:tahoma\;">Dr. Evan Horton\, Superintendent\, Coweta County School System</span></span></li>\n	<li><span style="font-size:14px\;"><span style="font-family:tahoma\;">Dr. Brendan Kelly\, President\, University of West Georgia</span></span></li>\n	<li><span style="font-size:14px\;"><span style="font-family:tahoma\;">Dr. Scott Rule\, President\, West Georgia Technical College</span></span></li>\n	<li><span style="font-size:14px\;"><span style="font-family:tahoma\;">And special guests!</span></span></li>\n</ul>\n<span style="font-size:14px\;"><span style="font-family:tahoma\;">Enjoy the program from the comfort of your vehicle by tuning into a dedicated radio stream or bring stadium chairs to participate in the open air. We&#39\;ll provide lunch courtesy of Dunc&#39\;s BBQ\; if you prefer not to eat in your car\, you&#39\;ll take a gift card home with you!</span></span>
LOCATION:Former PAPP Clinic Parking Lot Behind Dunc's BBQ at 98 Jackson Street (Entrance and check-in off Cavendar Street)
UID:e.468.15296
SEQUENCE:3
DTSTAMP:20260425T234059Z
URL:https://www.newnancowetachamber.org/events/details/2020-state-of-the-community-luncheon-education-15296
END:VEVENT

END:VCALENDAR
