BEGIN:VCALENDAR
VERSION:2.0
PRODID:-//ChamberMaster//Event Calendar 2.0//EN
METHOD:PUBLISH
X-PUBLISHED-TTL:P3D
REFRESH-INTERVAL:P3D
CALSCALE:GREGORIAN
BEGIN:VEVENT
DTSTART:20201014T123000Z
DTEND:20201014T133000Z
X-MICROSOFT-CDO-ALLDAYEVENT:FALSE
SUMMARY:2020 Voice of Business Committee Meeting
DESCRIPTION:Please make plans to join us to discuss topics and issues important to Coweta County's business community. Participation in this committee continues to be a great resource for your business and our members.
X-ALT-DESC;FMTTYPE=text/html:<span style="background:white\;"><span style="color:#333333\;"><span style="font-family:arial\,sans-serif\;"><span style="font-size:10.0pt\;">Please make plans to join us to discuss topics and issues important to&nbsp\;Coweta County&#39\;s</span></span></span></span><span style="font-variant-ligatures:normal\;font-variant-caps:normal\;orphans:2\;text-align:start\;widows:2\;-webkit-text-stroke-width:0px\;text-decoration-style:initial\;float:none\;word-spacing:0px\;">&nbsp\;business community. Participation in this committee continues to be a great resource for your business and our members.</span>
LOCATION:The Chamber 23 Bullsboro Dr. | Newnan
UID:e.468.15532
SEQUENCE:3
DTSTAMP:20260425T221032Z
URL:https://www.newnancowetachamber.org/events/details/2020-voice-of-business-committee-meeting-15532
END:VEVENT

END:VCALENDAR
