BEGIN:VCALENDAR
VERSION:2.0
PRODID:-//ChamberMaster//Event Calendar 2.0//EN
METHOD:PUBLISH
X-PUBLISHED-TTL:P3D
REFRESH-INTERVAL:P3D
CALSCALE:GREGORIAN
BEGIN:VEVENT
DTSTART:20211116T163000Z
DTEND:20211116T180000Z
X-MICROSOFT-CDO-ALLDAYEVENT:FALSE
SUMMARY:2021 Coweta Safety Alliance Holiday Luncheon
DESCRIPTION:Join the Newnan-Coweta Chamber and sponsor\, Coweta County Water and Sewerage Authority\, for our annual Coweta Safety Alliance Holiday Meeting and Thanksgiving Celebration! This festive luncheon includes food from the Mad Mexican Food Truck\, and a chance to learn from guest speaker\, Erico Dean. This topic covers:\n\n	Fire Chemistry: How fire occurs\, classes of fire\, and choosing the correct means to extinguish each type of fire.\n	Fire Size-up Considerations: How to evaluate fires\, assess firefighting resources\, and determine a course of action.\n	Portable Fire Extinguishers: How to identify types of portable fire extinguishers and how to operate them. \n	Fire Suppression Safety: How to decide if they should attempt to extinguish a fire\; how to approach and extinguish a fire safely.\n\n\nWe look forward to learning\, laughing\, and spreading some holiday cheer with you!
X-ALT-DESC;FMTTYPE=text/html:<span style="font-size:14px\;"><span style="font-family:tahoma\;"><font color="#000000"><span style="caret-color: rgb(0\, 0\, 0)\;">Join the Newnan-Coweta Chamber and sponsor\, Coweta County Water and Sewerage Authority\, for our annual Coweta Safety Alliance&nbsp\;</span></font><span style="caret-color: rgb(0\, 0\, 0)\; color: rgb(0\, 0\, 0)\;">Holiday Meeting and Thanksgiving Celebration! This festive luncheon includes food from the Mad Mexican Food Truck\, and a chance to learn from guest speaker\, Erico Dean. This topic covers:</span></span></span>\n<ul>\n	<li class="x_MsoNormal" style="margin: 0in\; font-size: 11pt\; font-family: Calibri\, sans-serif\; caret-color: rgb(33\, 33\, 33)\; color: rgb(33\, 33\, 33)\;"><span style="font-size:14px\;"><span style="font-family:tahoma\;">Fire Chemistry: How fire occurs\, classes of fire\, and choosing the correct means to extinguish each type of fire.</span></span></li>\n	<li class="x_MsoNormal" style="margin: 0in\; font-size: 11pt\; font-family: Calibri\, sans-serif\; caret-color: rgb(33\, 33\, 33)\; color: rgb(33\, 33\, 33)\;"><span style="font-size:14px\;"><span style="font-family:tahoma\;"><span style="font-size:14px\;"><span style="font-family:tahoma\;">Fire Size-up Considerations: How to evaluate fires\, assess firefighting resources\, and determine a course of action.</span></span></span></span></li>\n	<li class="x_MsoNormal" style="margin: 0in\; font-size: 11pt\; font-family: Calibri\, sans-serif\; caret-color: rgb(33\, 33\, 33)\; color: rgb(33\, 33\, 33)\;"><span style="font-size:14px\;"><span style="font-family:tahoma\;">Portable Fire Extinguishers: How to identify types of portable fire extinguishers and how to operate them.&nbsp\;</span></span></li>\n	<li class="x_MsoNormal" style="margin: 0in\; font-size: 11pt\; font-family: Calibri\, sans-serif\; caret-color: rgb(33\, 33\, 33)\; color: rgb(33\, 33\, 33)\;"><span style="font-size:14px\;"><span style="font-family:tahoma\;">Fire Suppression Safety: How to decide if they should attempt to extinguish a fire\; how to approach and extinguish a fire safely.</span></span></li>\n</ul>\n\n<div class="x_MsoNormal" style="margin: 0in\;"><font color="#212121" face="tahoma"><span style="caret-color: rgb(33\, 33\, 33)\; font-size: 14px\;">We look forward to learning\, laughing\, and spreading some&nbsp\;holiday cheer with you!</span></font></div>\n
LOCATION:545 Corinth Rd | Newnan | 30263
UID:e.468.16969
SEQUENCE:3
DTSTAMP:20260425T013822Z
URL:https://www.newnancowetachamber.org/events/details/2021-coweta-safety-alliance-holiday-luncheon-16969
END:VEVENT

END:VCALENDAR
