BEGIN:VCALENDAR
VERSION:2.0
PRODID:-//ChamberMaster//Event Calendar 2.0//EN
METHOD:PUBLISH
X-PUBLISHED-TTL:P3D
REFRESH-INTERVAL:P3D
CALSCALE:GREGORIAN
BEGIN:VEVENT
DTSTART:20210216T200000Z
DTEND:20210216T210000Z
X-MICROSOFT-CDO-ALLDAYEVENT:FALSE
SUMMARY:2021 Coweta Safety Alliance Meeting
DESCRIPTION:Topic: OSHA compliance with COVID-19 updates \n\nSpeaker: Hilarie Warren\, MPH\, CIH\n\nManager   Georgia Tech OSHA Training Institute Education Center\n\nSafety\, Health & Environmental Services\n\n\n\nPlease register online for in-person attendance OR use the link below to join the meeting virtually: \n\nSame for each meeting\, requires pre-registration: https://zoom.us/meeting/register/tJwpdu-orj0rEt1kBMx3BcISX8kTB20hm7Hg
X-ALT-DESC;FMTTYPE=text/html:<span style="font-size:14px\;"><span style="font-family:tahoma\;">Topic:&nbsp\;OSHA compliance with COVID-19 updates&nbsp\;<br />\nSpeaker:&nbsp\;Hilarie Warren\, MPH\, CIH<br />\nManager &ndash\; Georgia Tech OSHA Training Institute Education Center<br />\nSafety\, Health &amp\; Environmental Services<br />\n<br />\nPlease register online for in-person attendance OR use the link below to join the meeting virtually:&nbsp\;<br />\nSame for each meeting\, requires pre-registration: <a href="https://zoom.us/meeting/register/tJwpdu-orj0rEt1kBMx3BcISX8kTB20hm7Hg" target="_blank"><span style="background:white\;"><span style="color:#3E8DEF\;">https://zoom.us/meeting/register/tJwpdu-orj0rEt1kBMx3BcISX8kTB20hm7Hg</span></span></a></span></span>
LOCATION:Coweta County Water and Sewerage Authority 545 Corinth Rd\, Newnan\, Ga 30263
UID:e.468.16961
SEQUENCE:3
DTSTAMP:20260425T161609Z
URL:https://www.newnancowetachamber.org/events/details/2021-coweta-safety-alliance-meeting-16961
END:VEVENT

END:VCALENDAR
