BEGIN:VCALENDAR
VERSION:2.0
PRODID:-//ChamberMaster//Event Calendar 2.0//EN
METHOD:PUBLISH
X-PUBLISHED-TTL:P3D
REFRESH-INTERVAL:P3D
CALSCALE:GREGORIAN
BEGIN:VEVENT
DTSTART:20210518T190000Z
DTEND:20210518T200000Z
X-MICROSOFT-CDO-ALLDAYEVENT:FALSE
SUMMARY:2021 Coweta Safety Alliance Meeting
DESCRIPTION:Topic: Advancing Coweta Rehiring and Retraining Part I \n\n\n\nSpeaker: Larry Alford\, Industry Liaison\, Georgia Consortium for Advanced Technical Training (GA CATT)/ Georgia Manufacturing Extension Partnership \n\n\n\nPlease use the link below to join the meeting virtually: \n\n\n\nZOOM Link\n\nSame for each meeting\, requires pre-registration: https://zoom.us/meeting/register/tJwpdu-orj0rEt1kBMx3BcISX8kTB20hm7Hg
X-ALT-DESC;FMTTYPE=text/html:Topic: Advancing Coweta Rehiring and Retraining Part I&nbsp\;<br />\n<br />\nSpeaker: Larry Alford\, Industry Liaison\, Georgia Consortium for Advanced Technical Training (GA CATT)/ Georgia Manufacturing Extension Partnership&nbsp\;<br />\n<br />\nPlease use the link below to join the meeting virtually:&nbsp\;<br />\n<br />\n<span style="font-family:calibri\,sans-serif\;"><span style="font-size:10.0pt\;">ZOOM Link<br />\nSame for each meeting\, requires pre-registration: </span></span><span style="font-family:calibri\,sans-serif\;"><span style="font-size:10.0pt\;"><a href="https://zoom.us/meeting/register/tJwpdu-orj0rEt1kBMx3BcISX8kTB20hm7Hg" target="_blank"><span style="background:white\;"><span style="color:#3E8DEF\;">https://zoom.us/meeting/register/tJwpdu-orj0rEt1kBMx3BcISX8kTB20hm7Hg</span></span></a></span></span>
LOCATION:545 Corinth Rd\, Newnan\, Ga 30263
UID:e.468.16964
SEQUENCE:3
DTSTAMP:20260425T113032Z
URL:https://www.newnancowetachamber.org/events/details/2021-coweta-safety-alliance-meeting-16964
END:VEVENT

END:VCALENDAR
