BEGIN:VCALENDAR
VERSION:2.0
PRODID:-//ChamberMaster//Event Calendar 2.0//EN
METHOD:PUBLISH
X-PUBLISHED-TTL:P3D
REFRESH-INTERVAL:P3D
CALSCALE:GREGORIAN
BEGIN:VEVENT
DTSTART:20210324T163000Z
DTEND:20210324T173000Z
X-MICROSOFT-CDO-ALLDAYEVENT:FALSE
SUMMARY:2021 Golf Classic Expo Workshop
DESCRIPTION:During our Annual Golf Classic\, Expo-on-the-Tee exhibitors gain exposure and recognition for their brand\, while enjoying ample face-time with golfers between holes. This year we're hosting TWO Expo Workshops for those interested in being exhibitors. We'll outline expectations and give tips on how to make the most of your space! There are two opportunities for you to join us. Lunch is provided.
X-ALT-DESC;FMTTYPE=text/html:<span style="font-family:tahoma\;"><span style="color: rgb(0\, 0\, 0)\; font-size: 14px\;">During our Annual Golf Classic\, Expo-on-the-Tee exhibitors gain exposure and recognition for their brand\, while enjoying ample face-time with golfers between holes. This year we&rsquo\;re hosting TWO Expo Workshops for those interested in being exhibitors. We&rsquo\;ll outline expectations and give tips on how to make the most of your space! There are two opportunities for you to join us. Lunch is provided.</span></span>
LOCATION:Newnan-Coweta Chamber Masks required when appropriate\; physical distancing measures in place
UID:e.468.17418
SEQUENCE:3
DTSTAMP:20260425T144452Z
URL:https://www.newnancowetachamber.org/events/details/2021-golf-classic-expo-workshop-03-24-2021-17418
END:VEVENT

END:VCALENDAR
