BEGIN:VCALENDAR
VERSION:2.0
PRODID:-//ChamberMaster//Event Calendar 2.0//EN
METHOD:PUBLISH
X-PUBLISHED-TTL:P3D
REFRESH-INTERVAL:P3D
CALSCALE:GREGORIAN
BEGIN:VEVENT
DTSTART:20211021T153000Z
DTEND:20211021T173000Z
X-MICROSOFT-CDO-ALLDAYEVENT:FALSE
SUMMARY:2021 Industry Roundtable Lunch #1
DESCRIPTION:Invitation only.
X-ALT-DESC;FMTTYPE=text/html:Invitation only.
LOCATION:Grayson Steak and Seafood 91 Millard Farmer Industrial Blvd | Newnan
UID:e.468.17931
SEQUENCE:3
DTSTAMP:20260425T031206Z
URL:https://www.newnancowetachamber.org/events/details/2021-industry-roundtable-lunch-1-17931
END:VEVENT

END:VCALENDAR
