BEGIN:VCALENDAR
VERSION:2.0
PRODID:-//ChamberMaster//Event Calendar 2.0//EN
METHOD:PUBLISH
X-PUBLISHED-TTL:P3D
REFRESH-INTERVAL:P3D
CALSCALE:GREGORIAN
BEGIN:VEVENT
DTSTART:20211026T153000Z
DTEND:20211026T173000Z
X-MICROSOFT-CDO-ALLDAYEVENT:FALSE
SUMMARY:2021 Industry Roundtable Lunch #2
DESCRIPTION:Invitation only.
X-ALT-DESC;FMTTYPE=text/html:Invitation only.
LOCATION:Grayson Steak and Seafood 91 Millard Farmer Industrial Blvd | Newnan
UID:e.468.17932
SEQUENCE:3
DTSTAMP:20260425T030500Z
URL:https://www.newnancowetachamber.org/events/details/2021-industry-roundtable-lunch-2-17932
END:VEVENT

END:VCALENDAR
