BEGIN:VCALENDAR
VERSION:2.0
PRODID:-//ChamberMaster//Event Calendar 2.0//EN
METHOD:PUBLISH
X-PUBLISHED-TTL:P3D
REFRESH-INTERVAL:P3D
CALSCALE:GREGORIAN
BEGIN:VEVENT
DTSTART:20211021T130000Z
DTEND:20211021T140000Z
X-MICROSOFT-CDO-ALLDAYEVENT:FALSE
SUMMARY:2021 Member Connect
DESCRIPTION:Learn how the Chamber is using your investment to grow and develop our community. Discover programs to help you grow your business and how to use Chamber benefits to increase your bottom line.  Sign up today for the most entertaining\, informative and FUN breakfast this year!  This is a FREE event.
X-ALT-DESC;FMTTYPE=text/html:<span style="font-family:tahoma\;"><span style="color: rgb(51\, 51\, 51)\; font-size: 14px\; background-color: rgb(255\, 255\, 255)\;">Learn how the Chamber is using your investment to grow and develop our community. Discover programs to help you grow your business and how to use Chamber benefits to increase your bottom line.&nbsp\;&nbsp\;Sign up today for the most entertaining\, informative and FUN breakfast this year!&nbsp\; This is a FREE event.</span></span>
LOCATION:The Chamber 23 Bullsboro Drive | Newnan
UID:e.468.17023
SEQUENCE:3
DTSTAMP:20260425T031149Z
URL:https://www.newnancowetachamber.org/events/details/2021-member-connect-10-21-2021-17023
END:VEVENT

END:VCALENDAR
