BEGIN:VCALENDAR
VERSION:2.0
PRODID:-//ChamberMaster//Event Calendar 2.0//EN
METHOD:PUBLISH
X-PUBLISHED-TTL:P3D
REFRESH-INTERVAL:P3D
CALSCALE:GREGORIAN
BEGIN:VEVENT
DTSTART:20211020T133000Z
DTEND:20211020T143000Z
X-MICROSOFT-CDO-ALLDAYEVENT:FALSE
SUMMARY:2021 Non-Profit Alliance Meeting
DESCRIPTION:Monthly roundtable discussions for Chamber member non-profits.
X-ALT-DESC;FMTTYPE=text/html:<span style="font-size:14px\;"><span style="font-family:tahoma\;">Monthly roundtable discussions for Chamber member non-profits.&nbsp\;</span></span>
LOCATION:The Newnan-Coweta Chamber 23 Bullsboro Drive\, Newnan\, GA 30263
UID:e.468.16977
SEQUENCE:3
DTSTAMP:20260425T031306Z
URL:https://www.newnancowetachamber.org/events/details/2021-non-profit-alliance-meeting-16977
END:VEVENT

END:VCALENDAR
