BEGIN:VCALENDAR
VERSION:2.0
PRODID:-//ChamberMaster//Event Calendar 2.0//EN
METHOD:PUBLISH
X-PUBLISHED-TTL:P3D
REFRESH-INTERVAL:P3D
CALSCALE:GREGORIAN
BEGIN:VEVENT
DTSTART:20210415T123000Z
DTEND:20210415T140000Z
X-MICROSOFT-CDO-ALLDAYEVENT:FALSE
SUMMARY:2021 Pancakes & Politics
DESCRIPTION:The 2021 legislative session has come to a close and we're eager for the opportunity to learn more about from our Coweta Delegates what transpired under the Gold Dome. Join us as Georgia Chamber's Chris Clark moderates our panel of local officials in understanding the impacts of this year's session.
X-ALT-DESC;FMTTYPE=text/html:<span style="font-family:tahoma\;"><span style="caret-color: rgb(0\, 0\, 0)\; font-size: 14px\;">The 2021 legislative session has come to a close and we&#39\;re eager for the opportunity to learn more about from our Coweta Delegates what transpired under the Gold Dome. Join us as Georgia Chamber&#39\;s Chris Clark moderates our panel of local officials in understanding the impacts of this year&#39\;s session.</span></span>
LOCATION:Newnan Country Club 1356 Hwy 29 N | Newnan
UID:e.468.16985
SEQUENCE:3
DTSTAMP:20260425T130914Z
URL:https://www.newnancowetachamber.org/events/details/2021-pancakes-politics-16985
END:VEVENT

END:VCALENDAR
