BEGIN:VCALENDAR
VERSION:2.0
PRODID:-//ChamberMaster//Event Calendar 2.0//EN
METHOD:PUBLISH
X-PUBLISHED-TTL:P3D
REFRESH-INTERVAL:P3D
CALSCALE:GREGORIAN
BEGIN:VEVENT
DTSTART:20210217T163000Z
DTEND:20210217T180000Z
X-MICROSOFT-CDO-ALLDAYEVENT:FALSE
SUMMARY:2021 State of the Community Virtual Event
DESCRIPTION:Join the Newnan-Coweta Chamber for the 2021 State of the Community: State of Coweta County All-Virtual Event on February 17th. Hear first-hand from the county's most influential leaders while they address community priorities\, the ongoing pandemic and Coweta's future as we move through recovery and into a more resilient economy\, together. \n\n\n\nFeatured speakers include:\n\n	Michael Founts\, Administrator\, Coweta County\n	Cleatus Phillips\, City Manager\, City of Newnan\n	Dub Pearman\, Mayor\, City of Senoia\n\nPlus\, a moderated panel discussion including:\n\n\n	Blue Cole\, Mayor\, Town of Sharpsburg\n	Al Grieshaber\, City Manger\, City of Grantville\n	Dub Pearman\, Mayor\, City of Senoia\n	And more!\n\nThis event is presented by NuLink | WOW! and supported by Cancer Treatment Centers of America\, Coweta-Fayette EMC\, Kaiser Permanente\, Newnan Utilities\, Synovus\, and Toyota of Newnan.
X-ALT-DESC;FMTTYPE=text/html:<span style="font-size:14px\;"><span style="font-family:tahoma\;"><span style="color: rgb(0\, 0\, 0)\;">Join the Newnan-Coweta Chamber for the 2021 State of the Community: State of Coweta County All-Virtual Event on&nbsp\;</span><strong style="color: rgb(0\, 0\, 0)\; font-family: Helvetica\, serif\, EmojiFont\; font-size: 14px\;">February 17th</strong><span style="color: rgb(0\, 0\, 0)\;">. Hear first-hand from the county&#39\;s most influential leaders while they address community priorities\, the ongoing pandemic and Coweta&#39\;s future as we move through recovery and into a more resilient economy\, together.&nbsp\;<br />\n<br />\nFeatured speakers include:</span></span></span>\n<ul>\n	<li><span style="font-size:14px\;"><span style="font-family:tahoma\;"><span style="color: rgb(0\, 0\, 0)\;">Michael Founts\, Administrator\, Coweta County</span></span></span></li>\n	<li><span style="font-size:14px\;"><span style="font-family:tahoma\;"><span style="color: rgb(0\, 0\, 0)\;">Cleatus Phillips\, City Manager\, City of Newnan</span></span></span></li>\n	<li><span style="font-size:14px\;"><span style="font-family:tahoma\;"><span style="color: rgb(0\, 0\, 0)\;">Dub Pearman\, Mayor\, City of Senoia</span></span></span></li>\n</ul>\n<span style="font-size:14px\;"><span style="font-family:tahoma\;"><span style="color: rgb(0\, 0\, 0)\;">Plus\, a moderated panel discussion including:</span></span></span>\n\n<ul>\n	<li><span style="font-size:14px\;"><span style="font-family:tahoma\;"><span style="color: rgb(0\, 0\, 0)\;">Blue Cole\, Mayor\, Town of Sharpsburg</span></span></span></li>\n	<li><span style="font-size:14px\;"><span style="font-family:tahoma\;">Al Grieshaber\, City Manger\, City of Grantville</span></span></li>\n	<li><span style="font-size:14px\;"><span style="font-family:tahoma\;">Dub Pearman\, Mayor\, City of Senoia</span></span></li>\n	<li><span style="font-size:14px\;"><span style="font-family:tahoma\;">And more!</span></span></li>\n</ul>\n<span style="font-size:14px\;"><span style="font-family:tahoma\;"><span style="color: rgb(0\, 0\, 0)\;">This event is presented by </span><strong><span style="color:#008080\;">NuLink | WOW!</span></strong> and supported by <span style="color:#008080\;"><strong>Cancer Treatment Centers of America\, Coweta-Fayette EMC\,</strong></span>&nbsp\;<strong><span style="color:#008080\;">Kaiser Permanente</span></strong>\, <span style="color:#008080\;"><strong>Newnan Utilities</strong></span>\, <span style="color:#008080\;"><strong>Synovus</strong></span>\, and <strong><span style="color:#008080\;">Toyota of Newnan</span></strong><font color="#000000">.</font></span></span>
LOCATION:Virtual event...Keep an eye on your inbox for live link!
UID:e.468.16878
SEQUENCE:3
DTSTAMP:20260425T161321Z
URL:https://www.newnancowetachamber.org/events/details/2021-state-of-the-community-virtual-event-16878
END:VEVENT

END:VCALENDAR
