BEGIN:VCALENDAR
VERSION:2.0
PRODID:-//ChamberMaster//Event Calendar 2.0//EN
METHOD:PUBLISH
X-PUBLISHED-TTL:P3D
REFRESH-INTERVAL:P3D
CALSCALE:GREGORIAN
BEGIN:VEVENT
DTSTART:20210429T140000Z
DTEND:20210429T150000Z
X-MICROSOFT-CDO-ALLDAYEVENT:FALSE
SUMMARY:2021 Virtual Member Connect
DESCRIPTION:Log on to learn how the Chamber is using your investment to grow and develop our community. Hear from the Chamber President and CEO\, Key Staff\, Board Members and Committee Chairs. Discover programs to help you grow your business and how to use Chamber benefits to increase your bottom line.  Sign up today for the most entertaining\, informative and FUN lunch this year!  This is an invitation only FREE event for NEW members.
X-ALT-DESC;FMTTYPE=text/html:<span style="font-family:tahoma\;"><span style="color: rgb(51\, 51\, 51)\; font-size: 14px\; background-color: rgb(255\, 255\, 255)\;">Log on to learn how the Chamber is using your investment to grow and develop our community. Hear from the Chamber President and CEO\, Key Staff\, Board Members and Committee Chairs. Discover programs to help you grow your business and how to use Chamber benefits to increase your bottom line.&nbsp\;&nbsp\;Sign up today for the most entertaining\, informative and FUN lunch this year!&nbsp\; This is an invitation only FREE event for NEW members.</span></span>
LOCATION:TBD
UID:e.468.16994
SEQUENCE:3
DTSTAMP:20260425T130821Z
URL:https://www.newnancowetachamber.org/events/details/2021-virtual-member-connect-04-29-2021-16994
END:VEVENT

END:VCALENDAR
