BEGIN:VCALENDAR
VERSION:2.0
PRODID:-//ChamberMaster//Event Calendar 2.0//EN
METHOD:PUBLISH
X-PUBLISHED-TTL:P3D
REFRESH-INTERVAL:P3D
CALSCALE:GREGORIAN
BEGIN:VEVENT
DTSTART:20220825T180000Z
DTEND:20220825T210000Z
X-MICROSOFT-CDO-ALLDAYEVENT:FALSE
SUMMARY:2022 Bowling Adventure It's Tiki Time
DESCRIPTION:The torches are lit\, the theme is set\, get ready for a Bowling Adventure you'll never forget! Aloha! Join us for a tiki-tastic reprisal of our popular Bowling Adventure. Presented in partnership with Junction Lanes Family Entertainment Center and Nissan of Newnan\, participants enjoy friendly competition in this outstanding opportunity to connect\, team-build\, and recognize VIP customers and clients.
X-ALT-DESC;FMTTYPE=text/html:<span style="font-size:14px\;"><span style="font-family:tahoma\;">The torches are lit\, the theme is set\, get ready for a&nbsp\;Bowling Adventure you&#39\;ll never forget! Aloha! Join us for a&nbsp\;<em>tiki-tastic</em>&nbsp\;reprisal of our popular Bowling Adventure. Presented in partnership with&nbsp\;Junction Lanes Family Entertainment Center and Nissan of Newnan\, participants enjoy friendly competition in this&nbsp\;outstanding&nbsp\;opportunity&nbsp\;to connect\, team-build\, and&nbsp\;recognize VIP customers and clients.&nbsp\;</span></span>
LOCATION:Junction Lanes 141 Newnan Station Dr | Newnan
UID:e.468.18452
SEQUENCE:3
DTSTAMP:20260424T104427Z
URL:https://www.newnancowetachamber.org/events/details/2022-bowling-adventure-it-s-tiki-time-18452
END:VEVENT

END:VCALENDAR
