BEGIN:VCALENDAR
VERSION:2.0
PRODID:-//ChamberMaster//Event Calendar 2.0//EN
METHOD:PUBLISH
X-PUBLISHED-TTL:P3D
REFRESH-INTERVAL:P3D
CALSCALE:GREGORIAN
BEGIN:VEVENT
DTSTART:20211117T140000Z
DTEND:20211117T220000Z
X-MICROSOFT-CDO-ALLDAYEVENT:FALSE
SUMMARY:2022 Citizen of the Year Nominations Deadline
DESCRIPTION:LAST DAY!\n\nDeadline to submit 2022 Citizen of the Year Nominations!  Please email to info@newnancowetachamber.org or drop by the Chamber before 5pm.
X-ALT-DESC;FMTTYPE=text/html:LAST DAY!<br />\nDeadline to submit 2022 Citizen of the Year Nominations!&nbsp\; Please email to info@newnancowetachamber.org or drop by the Chamber before 5pm.
LOCATION:Newnan-Coweta Chamber 23 Bullsboro Dr | Newnan 30263
UID:e.468.17921
SEQUENCE:3
DTSTAMP:20260425T013703Z
URL:https://www.newnancowetachamber.org/events/details/2022-citizen-of-the-year-nominations-deadline-17921
END:VEVENT

END:VCALENDAR
