BEGIN:VCALENDAR
VERSION:2.0
PRODID:-//ChamberMaster//Event Calendar 2.0//EN
METHOD:PUBLISH
X-PUBLISHED-TTL:P3D
REFRESH-INTERVAL:P3D
CALSCALE:GREGORIAN
BEGIN:VEVENT
DTSTART:20220208T163000Z
DTEND:20220208T173000Z
X-MICROSOFT-CDO-ALLDAYEVENT:FALSE
SUMMARY:2022 Coweta Safety Alliance Lunch and Learn
DESCRIPTION:Join February's Coweta Safety Alliance meeting\, hosted by Coweta Fayette EMC. Hear from Chellie Phillips\, VP of Communications and Public Relations for Coweta-Fayette EMC\, as she discusses Electric Safety. Susan Kraut\, VP of the Newnan-Coweta Chamber\, is going to give a talk about Talent Development. Lunch is provided!
X-ALT-DESC;FMTTYPE=text/html:<span style="font-size:14px\;"><span style="font-family:tahoma\;">Join February&#39\;s Coweta Safety Alliance meeting\, hosted by Coweta Fayette EMC. Hear from Chellie Phillips\, VP of Communications and Public Relations for Coweta-Fayette EMC\, as she discusses Electric Safety. Susan Kraut\, VP of the Newnan-Coweta Chamber\, is going to give a talk about Talent Development. Lunch is provided!</span></span>
LOCATION:Coweta-Fayette EMC 807 Collinsworth Road Palmetto\, GA 30268
UID:e.468.18088
SEQUENCE:3
DTSTAMP:20260424T204324Z
URL:https://www.newnancowetachamber.org/events/details/2022-coweta-safety-alliance-lunch-and-learn-18088
END:VEVENT

END:VCALENDAR
