BEGIN:VCALENDAR
VERSION:2.0
PRODID:-//ChamberMaster//Event Calendar 2.0//EN
METHOD:PUBLISH
X-PUBLISHED-TTL:P3D
REFRESH-INTERVAL:P3D
CALSCALE:GREGORIAN
BEGIN:VEVENT
DTSTART:20220510T153000Z
DTEND:20220510T163000Z
X-MICROSOFT-CDO-ALLDAYEVENT:FALSE
SUMMARY:2022 Coweta Safety Alliance Meeting
DESCRIPTION:Join us for May's Coweta Safety Alliance Luncheon\, hosted by Newnan Utilities. Paul Schlumper\, head of the Georgia Institute of Technology Safety Engineering Branch and Principal Research Engineer\, discusses OSHA regulations\, compliance\, best practices\, and Covid-19 updates. The Mad Mexican food truck is serving lunch! Don't miss out. Please register.
X-ALT-DESC;FMTTYPE=text/html:<span style="font-family: &quot\;Century Gothic&quot\;\, Calibri\, Helvetica\, Arial\, sans-serif\; font-size: 14px\; white-space: pre-wrap\; color: rgb(0\, 0\, 0)\;">Join us for May&#39\;s Coweta Safety Alliance Luncheon\, hosted by Newnan Utilities. Paul Schlumper</span><span style="font-family: &quot\;Century Gothic&quot\;\, Calibri\, Helvetica\, Arial\, sans-serif\; font-size: 14px\; white-space: pre-wrap\; color: rgb(0\, 0\, 0)\;">\, head of the&nbsp\;Georgia Institute of Technology&nbsp\;Safety Engineering Branch and Principal Research Engineer\, </span><span style="font-family: &quot\;Century Gothic&quot\;\, Calibri\, Helvetica\, Arial\, sans-serif\; font-size: 14px\; white-space: pre-wrap\; color: rgb(0\, 0\, 0)\;">discusses OSHA regulations\, compliance\, best practices\, and Covid-19 updates. The Mad Mexican food truck is serving lunch! Don&#39\;t miss out. Please register. &nbsp\;</span>
LOCATION:315 Millard Farmer Industrial Blvd\, Newnan\, GA 30263
UID:e.468.18093
SEQUENCE:3
DTSTAMP:20260424T153420Z
URL:https://www.newnancowetachamber.org/events/details/2022-coweta-safety-alliance-meeting-18093
END:VEVENT

END:VCALENDAR
