BEGIN:VCALENDAR
VERSION:2.0
PRODID:-//ChamberMaster//Event Calendar 2.0//EN
METHOD:PUBLISH
X-PUBLISHED-TTL:P3D
REFRESH-INTERVAL:P3D
CALSCALE:GREGORIAN
BEGIN:VEVENT
DTSTART:20221025T153000Z
DTEND:20221025T170000Z
X-MICROSOFT-CDO-ALLDAYEVENT:FALSE
SUMMARY:2022 Enhanced Investor Taco Tuesday
DESCRIPTION:Invitation Only.\n\nLet's taco 'bout community prosperity and advancement!  Join us for our exclusive Enhanced Investor think tank focused on creating intentionality in Coweta's fast-growth environment. \n\nRSVP to valerie@newnancowetachamber.org
X-ALT-DESC;FMTTYPE=text/html:<strong><span style="font-size:18px\;">Invitation Only.</span></strong><br />\n<em><span style="background:white\;"><span style="color:#333333\;"><span style="font-family:calibri\,sans-serif\;"><span style="font-size:12.0pt\;">Let&rsquo\;s taco &lsquo\;bout community prosperity and advancement!&nbsp\; Join us for our exclusive Enhanced Investor&nbsp\;think tank focused on creating intentionality in Coweta&rsquo\;s fast-growth environment.&nbsp\;</span></span></span></span></em><br />\n<strong><span style="background:white\;font-weight:normal\;"><span style="color:blue\;"><span style="font-family:calibri\,sans-serif\;"><span style="font-size:12.0pt\;">RSVP to&nbsp\;</span></span></span></span></strong><span style="background:white\;"><span style="color:#C00000\;"><span style="font-family:calibri\,sans-serif\;"><span style="font-size:12.0pt\;"><a href="mailto:valerie@newnancowetachamber.org"><strong><span style="color:#0782c1\;">valerie@newnancowetachamber.org</span></strong></a></span></span></span></span>
LOCATION:Chamber Office
UID:e.468.18533
SEQUENCE:3
DTSTAMP:20260422T203108Z
URL:https://www.newnancowetachamber.org/events/details/2022-enhanced-investor-taco-tuesday-18533
END:VEVENT

END:VCALENDAR
