BEGIN:VCALENDAR
VERSION:2.0
PRODID:-//ChamberMaster//Event Calendar 2.0//EN
METHOD:PUBLISH
X-PUBLISHED-TTL:P3D
REFRESH-INTERVAL:P3D
CALSCALE:GREGORIAN
BEGIN:VEVENT
DTSTART:20220209T143000Z
DTEND:20220209T153000Z
X-MICROSOFT-CDO-ALLDAYEVENT:FALSE
SUMMARY:2022 Non-Profit Alliance Meeting
DESCRIPTION:Join a monthly roundtable discussion for Chamber member non-profits. The Non-Profit Alliance is a great way to bring awareness to your organization\, while fostering relationships with fellow non-profits.\n\n\n\nNew for February's Meeting!  We're excited to welcome Jeff Bartholomew of Everest Business Coaching\, a sought-after business coach and speaker who has facilitated conversations across the country on popular leadership topics including 'The 5 Temptations of a CEO\;' 'Start with Why\;' 'Eat That Frog\;' ' Goal Setting for a Powerful New Year\,' and more.
X-ALT-DESC;FMTTYPE=text/html:<span style="color: rgb(5\, 5\, 5)\; font-family: tahoma\; font-size: 14px\; caret-color: rgb(5\, 5\, 5)\;">Join a monthly roundtable discussion for Chamber member non-profits. The Non-Profit Alliance is a great way to bring awareness to your organization\, while fostering relationships with fellow non-profits.<br />\n<br />\n<strong>New for February&#39\;s Meeting!</strong>&nbsp\; We&#39\;re excited to welcome Jeff Bartholomew of Everest Business Coaching\, a sought-after business coach and speaker who has facilitated conversations across the country on popular leadership topics including &#39\;The 5 Temptations of a CEO\;&#39\; &#39\;Start with Why\;&#39\; &#39\;Eat That Frog\;&#39\; &#39\; Goal Setting for a Powerful New Year\,&#39\; and more.</span>
LOCATION:The Chamber | 23 Bullsboro Drive
UID:e.468.18112
SEQUENCE:3
DTSTAMP:20260424T222322Z
URL:https://www.newnancowetachamber.org/events/details/2022-non-profit-alliance-meeting-02-09-2022-18112
END:VEVENT

END:VCALENDAR
