BEGIN:VCALENDAR
VERSION:2.0
PRODID:-//ChamberMaster//Event Calendar 2.0//EN
METHOD:PUBLISH
X-PUBLISHED-TTL:P3D
REFRESH-INTERVAL:P3D
CALSCALE:GREGORIAN
BEGIN:VEVENT
DTSTART:20220914T133000Z
DTEND:20220914T143000Z
X-MICROSOFT-CDO-ALLDAYEVENT:FALSE
SUMMARY:2022 Non-Profit Alliance Meeting
DESCRIPTION:Join a monthly roundtable discussion for our Chamber member non-profits. Our Non-Profit Alliance is a great way to bring awareness to your organization\, while fostering relationships with fellow non-profits.
X-ALT-DESC;FMTTYPE=text/html:<span style="color: rgb(5\, 5\, 5)\; font-family: tahoma\; font-size: 14px\; caret-color: rgb(5\, 5\, 5)\;">Join a monthly roundtable discussion for our Chamber member non-profits. Our Non-Profit Alliance is a great way to bring awareness to your organization\, while fostering relationships with fellow non-profits.</span>
LOCATION:The Chamber 23 Bullsboro Drive
UID:e.468.18137
SEQUENCE:3
DTSTAMP:20260422T221632Z
URL:https://www.newnancowetachamber.org/events/details/2022-non-profit-alliance-meeting-09-14-2022-18137
END:VEVENT

END:VCALENDAR
