BEGIN:VCALENDAR
VERSION:2.0
PRODID:-//ChamberMaster//Event Calendar 2.0//EN
METHOD:PUBLISH
X-PUBLISHED-TTL:P3D
REFRESH-INTERVAL:P3D
CALSCALE:GREGORIAN
BEGIN:VEVENT
DTSTART:20220414T120000Z
DTEND:20220414T133000Z
X-MICROSOFT-CDO-ALLDAYEVENT:FALSE
SUMMARY:2022 Pancakes & Politics Breakfast
DESCRIPTION:The 2022 legislative session has come to a close and we are eager for the opportunity to learn more from our Coweta Delegates about what transpired under the Gold Dome. This annual event gives members an opportunity to hear first-hand from the Coweta Legislative Delegation about the recent legislative session.  Additionally\, Georgia Chamber President and CEO Chris Clark brings an annual crowd-favorite update and moderates our panel of local officials in understanding the impacts of this year's session.
X-ALT-DESC;FMTTYPE=text/html:<span style="caret-color: rgb(0\, 0\, 0)\; font-family: tahoma\; font-size: 14px\;">The 2022 legislative session has come to a close and we are eager for the opportunity to learn more from our Coweta Delegates about&nbsp\;what transpired under the Gold Dome.&nbsp\;</span><span style="background:white\;"><span style="color:#333333\;"><span style="font-family:arial\,sans-serif\;"><span style="font-size:10.5pt\;">This annual event gives members an opportunity to hear first-hand from the Coweta Legislative Delegation about the recent legislative session.&nbsp\; Additionally\, Georgia Chamber President and CEO Chris Clark brings an annual crowd-favorite update and moderates our panel of local officials in understanding the impacts of this year&#39\;s session.</span></span></span></span>
LOCATION:Newnan Country Club 1356 Hwy 29 N Newnan\, GA 30263
UID:e.468.18211
SEQUENCE:3
DTSTAMP:20260424T191245Z
URL:https://www.newnancowetachamber.org/events/details/2022-pancakes-politics-breakfast-18211
END:VEVENT

END:VCALENDAR
