BEGIN:VCALENDAR
VERSION:2.0
PRODID:-//ChamberMaster//Event Calendar 2.0//EN
METHOD:PUBLISH
X-PUBLISHED-TTL:P3D
REFRESH-INTERVAL:P3D
CALSCALE:GREGORIAN
BEGIN:VEVENT
DTSTART:20231205T223000Z
DTEND:20231206T000000Z
X-MICROSOFT-CDO-ALLDAYEVENT:FALSE
SUMMARY:2023 Business-After-Hours December
DESCRIPTION:Existing and prospective Chamber members are invited to gather during the cocktail hour to enjoy a curated opportunity to connect with peers while establishing and renewing relationships. We're thrilled to have Piedmont Newnan and Newnan Utilities co-host this month's event. Business-After-Hours is free for Chamber members\, but space is limited so please register!
X-ALT-DESC;FMTTYPE=text/html:<span style="font-family: tahoma\, geneva\, sans-serif\; font-size: 14px\;">Existing and prospective Chamber members are invited to gather during the cocktail hour to enjoy a curated opportunity to connect with peers while establishing and renewing relationships. We&#39\;re thrilled to have Piedmont Newnan and Newnan Utilities co-host this month&#39\;s event. Business-After-Hours is free for Chamber members\, but space is limited so please register!&nbsp\;</span>
LOCATION:Newnan Utilities Cabin 1 Young Avenue Newnan\, GA 30263
UID:e.468.18675
SEQUENCE:3
DTSTAMP:20260419T224426Z
URL:https://www.newnancowetachamber.org/events/details/2023-business-after-hours-december-18675
END:VEVENT

END:VCALENDAR
