BEGIN:VCALENDAR
VERSION:2.0
PRODID:-//ChamberMaster//Event Calendar 2.0//EN
METHOD:PUBLISH
X-PUBLISHED-TTL:P3D
REFRESH-INTERVAL:P3D
CALSCALE:GREGORIAN
BEGIN:VEVENT
DTSTART:20230511T213000Z
DTEND:20230511T230000Z
X-MICROSOFT-CDO-ALLDAYEVENT:FALSE
SUMMARY:2023 Business-After-Hours May
DESCRIPTION:Existing and prospective Chamber members are invited to gather during the cocktail hour to enjoy a curated opportunity to connect with peers while establishing and renewing relationships. We are thrilled to have Kemp's Dalton West Flooring as our host at this month's event. Free for Chamber members\, but space is limited.
X-ALT-DESC;FMTTYPE=text/html:<span style="font-family: tahoma\, geneva\, sans-serif\; font-size: 14px\;">Existing and prospective Chamber members are invited to gather during the cocktail hour to enjoy a curated opportunity to connect with peers while establishing and renewing relationships. We are thrilled to have Kemp&#39\;s Dalton West Flooring as our host at this month&#39\;s event. Free for Chamber members\, but space is limited.</span>
LOCATION:Kemp's Dalton West Flooring 7 Jefferson Parkway Newnan\, Georgia 30263
UID:e.468.18624
SEQUENCE:3
DTSTAMP:20260422T095811Z
URL:https://www.newnancowetachamber.org/events/details/2023-business-after-hours-may-18624
END:VEVENT

END:VCALENDAR
