BEGIN:VCALENDAR
VERSION:2.0
PRODID:-//ChamberMaster//Event Calendar 2.0//EN
METHOD:PUBLISH
X-PUBLISHED-TTL:P3D
REFRESH-INTERVAL:P3D
CALSCALE:GREGORIAN
BEGIN:VEVENT
DTSTART:20231010T133000Z
DTEND:20231010T143000Z
X-MICROSOFT-CDO-ALLDAYEVENT:FALSE
SUMMARY:2023 Chamber Champions October Meeting
DESCRIPTION:Monthly meeting of our Chamber Champions Alliance
X-ALT-DESC;FMTTYPE=text/html:Monthly meeting of our Chamber Champions Alliance&nbsp\;&nbsp\;&nbsp\;&nbsp\;&nbsp\;&nbsp\;&nbsp\;&nbsp\;
LOCATION:The Chamber 23 Bullsboro Dr. Newnan\, GA 30263
UID:e.468.18656
SEQUENCE:3
DTSTAMP:20260420T015705Z
URL:https://www.newnancowetachamber.org/events/details/2023-chamber-champions-october-meeting-18656
END:VEVENT

END:VCALENDAR
