BEGIN:VCALENDAR
VERSION:2.0
PRODID:-//ChamberMaster//Event Calendar 2.0//EN
METHOD:PUBLISH
X-PUBLISHED-TTL:P3D
REFRESH-INTERVAL:P3D
CALSCALE:GREGORIAN
BEGIN:VEVENT
DTSTART:20230817T213000Z
DTEND:20230817T230000Z
X-MICROSOFT-CDO-ALLDAYEVENT:FALSE
SUMMARY:2023 Connections in the Courtyard August
DESCRIPTION:Join the Newnan-Coweta Chamber for a casual\, monthly after-hours event hosted in the Chamber's intimate courtyard\, featuring tasty appetizers and refreshing beer and wine options. This month's event is sponsored by Hammond Services! Open to current and future Chamber members\, attendees are encouraged to invite a guest!
X-ALT-DESC;FMTTYPE=text/html:<span style="font-size: 14px\;"><span style="font-family: tahoma\;"><span style="color: rgb(32\, 32\, 32)\;">Join the Newnan-Coweta Chamber for a casual\, monthly after-hours event hosted in the Chamber&#39\;s intimate courtyard\, featuring tasty appetizers and refreshing beer and wine options</span></span></span><font color="#202020" face="tahoma"><span style="font-size: 14px\;">. This month&#39\;s event is sponsored by Hammond Services! Open to current and future Chamber members\, attendees are encouraged to invite a guest!</span></font>
LOCATION:The Chamber 23 Bullsboro Drive (Parking available across the street and next door to the Chamber)
UID:e.468.18669
SEQUENCE:3
DTSTAMP:20260422T112520Z
URL:https://www.newnancowetachamber.org/events/details/2023-connections-in-the-courtyard-august-18669
END:VEVENT

END:VCALENDAR
