BEGIN:VCALENDAR
VERSION:2.0
PRODID:-//ChamberMaster//Event Calendar 2.0//EN
METHOD:PUBLISH
X-PUBLISHED-TTL:P3D
REFRESH-INTERVAL:P3D
CALSCALE:GREGORIAN
BEGIN:VEVENT
DTSTART:20231011T213000Z
DTEND:20231011T230000Z
X-MICROSOFT-CDO-ALLDAYEVENT:FALSE
SUMMARY:2023 Connections in the Graveyard October
DESCRIPTION:Eat\, drink\, and get ready for a fang-tastic after-hours event! Join us for a special-themed Connections in the Graveyard event with delicious appetizers\, beer\, and wine\, brought to you by our generous sponsors\, Minuteman Press and The Southern Credit Union. This month's gathering includes a Chili Cook-off\, courtesy of chili from our Chamber Champions Alliance. Attendees of Connections in the Graveyard will vote for the top three chili winners\, and door prizes and giveaways included during the event. \n\n\n\nConnections is open to both current and future members\, so don't forget to invite a guest. Reserve your spot today!
X-ALT-DESC;FMTTYPE=text/html:<span style="font-family:tahoma\;"><span style="line-height: 15.693333625793457px\;"><span style="font-size: 14px\;">Eat\, drink\, and get ready for a&nbsp\;</span><em style="caret-color: rgb(0\, 0\, 0)\; font-size: 14px\;">fang-tastic </em><span style="font-size: 14px\;">after-hours event!&nbsp\;Join us for a special-themed Connections in the Graveyard event with delicious appetizers\, beer\, and wine\, brought to you by our generous sponsors\, Minuteman Press and The Southern Credit Union. This month&#39\;s gathering includes a Chili Cook-off\,&nbsp\;courtesy of chili from our Chamber&nbsp\;Champions Alliance.&nbsp\;</span></span><span style="font-size:14px\;"><span style="caret-color: rgb(0\, 0\, 0)\;">Attendees of Connections in the Graveyard will vote for the top three chili winners\, and door prizes and giveaways included&nbsp\;during the event.&nbsp\;</span></span><br />\n<br />\n<span style="line-height: 15.693333625793457px\;"><span style="caret-color: rgb(0\, 0\, 0)\; font-size: 14px\;">Connections is open to both current and future members\, so don&#39\;t forget to invite a guest. Reserve your spot today!</span></span></span>
LOCATION:The Chamber 23 Bullsboro Drive (Parking available across the street and next door to the Chamber)
UID:e.468.18676
SEQUENCE:3
DTSTAMP:20260420T015534Z
URL:https://www.newnancowetachamber.org/events/details/2023-connections-in-the-graveyard-october-18676
END:VEVENT

END:VCALENDAR
