BEGIN:VCALENDAR
VERSION:2.0
PRODID:-//ChamberMaster//Event Calendar 2.0//EN
METHOD:PUBLISH
X-PUBLISHED-TTL:P3D
REFRESH-INTERVAL:P3D
CALSCALE:GREGORIAN
BEGIN:VEVENT
DTSTART:20231115T163000Z
DTEND:20231115T180000Z
X-MICROSOFT-CDO-ALLDAYEVENT:FALSE
SUMMARY:2023 Friendsgiving
DESCRIPTION:The Chamber's mission is to champion economic prosperity for our members. This translates to many endeavors\, from member connections opportunities to community development.\n\nAs we look back on another year of growth\, progress\, collaboration\, and success\, it's important that we recognize the two business sectors that\, together\, keep this community humming.\n\nThe Chamber's Non-Profit Alliance\, led by program chair Kevin Barbee of Elevate Coweta Students\, enjoys an annual opportunity to join Chamber staff\, leadership\, and associates in recognizing the combined impact of non-profit service organizations and the for-profit corporate citizens that support them.\n\nTo show appreciation to all businesses that support the greater good of the Coweta community\, whether through donations\, volunteerism\, or other means of support\, we invite you to join us at our Friendsgiving lunch\, a pot-luck-style gathering that includes donations from local restaurants and eateries\, each of which has chosen one dish to share with the group.
X-ALT-DESC;FMTTYPE=text/html:<p style="color: rgb(0\, 0\, 0)\; font-family: &quot\;Times New Roman&quot\;\; font-size: medium\;"><span style="font-size:14px\;"><span style="font-family:tahoma\;">The Chamber&#39\;s mission is to champion economic prosperity for our members. This translates to many endeavors\, from member connections opportunities to community development.</span></span></p>\n\n<p style="color: rgb(0\, 0\, 0)\; font-family: &quot\;Times New Roman&quot\;\; font-size: medium\;"><span style="font-size:14px\;"><span style="font-family:tahoma\;">As we look back on another year of growth\, progress\, collaboration\, and success\, it&#39\;s important that we recognize the two business sectors that\, together\, keep this community humming.</span></span></p>\n\n<p style="color: rgb(0\, 0\, 0)\; font-family: &quot\;Times New Roman&quot\;\; font-size: medium\;"><span style="font-size:14px\;"><span style="font-family:tahoma\;">The Chamber&#39\;s Non-Profit Alliance\, led by program chair Kevin Barbee of Elevate Coweta Students\, enjoys an annual opportunity to join Chamber staff\, leadership\, and associates in recognizing the combined impact of non-profit service organizations and the for-profit corporate citizens that support them.</span></span></p>\n\n<p style="color: rgb(0\, 0\, 0)\; font-family: &quot\;Times New Roman&quot\;\; font-size: medium\;"><span style="font-size:14px\;"><span style="font-family:tahoma\;">To show appreciation to all businesses that support the greater good of the Coweta community\, whether through donations\, volunteerism\, or other means of support\, we invite you to join us at our Friendsgiving lunch\, a pot-luck-style gathering that includes donations from local restaurants and eateries\, each of which has chosen one dish to share with the group.</span></span></p>\n
LOCATION:Newnan Utilities Cabin 1 Young Ave\, Newnan\, GA 30263
UID:e.468.18923
SEQUENCE:3
DTSTAMP:20260420T015535Z
URL:https://www.newnancowetachamber.org/events/details/2023-friendsgiving-18923
END:VEVENT

END:VCALENDAR
