BEGIN:VCALENDAR
VERSION:2.0
PRODID:-//ChamberMaster//Event Calendar 2.0//EN
METHOD:PUBLISH
X-PUBLISHED-TTL:P3D
REFRESH-INTERVAL:P3D
CALSCALE:GREGORIAN
BEGIN:VEVENT
DTSTART:20230120T150000Z
DTEND:20230120T160000Z
X-MICROSOFT-CDO-ALLDAYEVENT:FALSE
SUMMARY:2023 Legislative Preview (Georgia Legislature)
DESCRIPTION:Join the Newnan-Coweta Chamber for the first of five Coweta Impact Alliance sessions. This meeting we are thrilled to host Representative Lynn Smith and Senator Matt Brass as they provide a legislative preview\, answer questions\, and highlight wins from the previous year. There is no cost to attend\; reservations are required!
X-ALT-DESC;FMTTYPE=text/html:<span style="font-size: 10.5pt\; font-family: Tahoma\, sans-serif\;">Join the Newnan-Coweta Chamber for the first of five Coweta Impact Alliance sessions. This meeting we are thrilled to host Representative Lynn Smith and Senator Matt Brass as they provide a legislative preview\, answer questions\, and highlight wins from the previous year. There is no cost to attend\; reservations are required!</span>
LOCATION:Chamber Office 23 Bullsboro Dr | Newnan
UID:e.468.18603
SEQUENCE:3
DTSTAMP:20260422T162153Z
URL:https://www.newnancowetachamber.org/events/details/2023-legislative-preview-georgia-legislature-18603
END:VEVENT

END:VCALENDAR
