BEGIN:VCALENDAR
VERSION:2.0
PRODID:-//ChamberMaster//Event Calendar 2.0//EN
METHOD:PUBLISH
X-PUBLISHED-TTL:P3D
REFRESH-INTERVAL:P3D
CALSCALE:GREGORIAN
BEGIN:VEVENT
DTSTART:20230412T213000Z
DTEND:20230412T230000Z
X-MICROSOFT-CDO-ALLDAYEVENT:FALSE
SUMMARY:2023 Member Connect April
DESCRIPTION:New\, veteran\, and re-engaging members are invited to join us for a very special evening Member Connect - Board Edition - on Wednesday\, April 12th at 5:30pm at the Chamber. This is an exciting opportunity to meet with Chamber staff and get to know the leadership team all while learning more about maximizing your membership investment.\n\nJoin us for a happy-hour-style engagement with libations and light appetizers and discover the benefits of being part of the Chamber\, from peer-to-peer networking and professional development opportunities to exclusive access to resources such as our mall business tools\, industry alliance\, talent and community development initiatives\, informative programming\, signature events\, and more! We'll also talk about upcoming projects and initiatives designed to bring our members more value.\n\nIf you're looking for ways to make the most of your membership and engage with the Chamber's board of directors\, don't miss this exciting opportunity - Register now!
X-ALT-DESC;FMTTYPE=text/html:<p class="my-05" style="background:white"><span style="font-size:14px\;"><span style="font-family:tahoma\;"><span style="color: black\;">New\, veteran\, and re-engaging members are invited to join us for a very special evening Member Connect - <i>Board Edition</i> - on Wednesday\, April 12th at 5:30pm at the Chamber. This is an exciting opportunity to meet with Chamber staff and get to know the leadership team&hellip\;all while learning more about maximizing your membership investment.</span></span></span><span style="font-size:9.0pt\;\nfont-family:&quot\;Segoe UI&quot\;\,sans-serif\;color:black"><o:p></o:p></span></p>\n\n<p class="my-05" style="background:white\;box-sizing: border-box\;--tw-border-spacing-x:0\;\n--tw-border-spacing-y:0\;--tw-translate-x:0\;--tw-translate-y:0\;--tw-rotate:0\;\n--tw-skew-x:0\;--tw-skew-y:0\;--tw-scale-x:1\;--tw-scale-y:1\;--tw-pan-x: \;\n--tw-pan-y: \;--tw-pinch-zoom: \;--tw-scroll-snap-strictness:proximity\;\n--tw-ordinal: \;--tw-slashed-zero: \;--tw-numeric-figure: \;--tw-numeric-spacing: \;\n--tw-numeric-fraction: \;--tw-ring-inset: \;--tw-ring-offset-width:0px\;\n--tw-ring-offset-color:#fff\;--tw-ring-color:rgba(0\,38\,234\,0.5)\;--tw-ring-offset-shadow:0 0 #0000\;\n--tw-ring-shadow:0 0 #0000\;--tw-shadow:0 0 #0000\;--tw-shadow-colored:0 0 #0000\;\n--tw-blur: \;--tw-brightness: \;--tw-contrast: \;--tw-grayscale: \;--tw-hue-rotate: \;\n--tw-invert: \;--tw-saturate: \;--tw-sepia: \;--tw-drop-shadow: \;--tw-backdrop-blur: \;\n--tw-backdrop-brightness: \;--tw-backdrop-contrast: \;--tw-backdrop-grayscale: \;\n--tw-backdrop-hue-rotate: \;--tw-backdrop-invert: \;--tw-backdrop-opacity: \;\n--tw-backdrop-saturate: \;--tw-backdrop-sepia: \;margin:0.125rem 0px\;font-variant-ligatures: normal\;\nfont-variant-caps: normal\;orphans: 2\;white-space:pre-wrap\;widows: 2\;-webkit-text-stroke-width: 0px\;\ntext-decoration-thickness: initial\;text-decoration-style: initial\;text-decoration-color: initial\;\nword-spacing:0px"><span style="font-size:14px\;"><span style="font-family:tahoma\;"><span style="color: black\;">Join us for a happy-hour-style engagement with libations and light appetizers and discover the benefits of being part of the Chamber\, from peer-to-peer networking and professional development opportunities to exclusive access to resources such as our mall business tools\, industry alliance\, talent and community development initiatives\, informative programming\, signature events\, and more! We&#39\;ll also talk about upcoming projects and initiatives designed to bring our members more value.</span></span></span><br />\n<span style="font-size:14px\;"><span style="font-family:tahoma\;"><span style="color: black\;">If you&#39\;re looking for ways to make the most of your membership and engage with the Chamber&rsquo\;s board of directors\, don&#39\;t miss this exciting opportunity - Register now!</span></span></span></p>\n
LOCATION:The Chamber 23 Bullsboro Drive Newnan\, Georgia 30263
UID:e.468.18626
SEQUENCE:3
DTSTAMP:20260422T112458Z
URL:https://www.newnancowetachamber.org/events/details/2023-member-connect-april-18626
END:VEVENT

END:VCALENDAR
