BEGIN:VCALENDAR
VERSION:2.0
PRODID:-//ChamberMaster//Event Calendar 2.0//EN
METHOD:PUBLISH
X-PUBLISHED-TTL:P3D
REFRESH-INTERVAL:P3D
CALSCALE:GREGORIAN
BEGIN:VEVENT
DTSTART:20230111T143000Z
DTEND:20230111T153000Z
X-MICROSOFT-CDO-ALLDAYEVENT:FALSE
SUMMARY:2023 Non-Profit Alliance January Meeting
DESCRIPTION:Join a monthly roundtable discussion for our Chamber member non-profits. Our Non-Profit Alliance is a great way to bring awareness to your organization\, while fostering relationships with fellow non-profits. \n\n\n\nInsurance--is your organization covered? Join us as we learn about the necessity of insurance and options for your non-profit. Kirby Arnall\, Jr. of Matrix Insurance will be our speaker. Kirby Arnall\, Jr. was born and raised in Newnan\, Ga. He is a graduate of The Heritage School and The University of Alabama where he earned a Bachelor of Science degree in Human Environmental Science with a concentration in Family Financial Planning and Counseling. Kirby is a fourth-generation insurance professional. His family has been continuously active in the insurance business since 1922. Prior to joining Matrix\, he participated in the FIPI program with The Cincinnati Insurance Company. Through this program\, he acquired techniques to mitigate risk for Commercial and Personal Insurance exposures.
X-ALT-DESC;FMTTYPE=text/html:<span style="font-size:14px\;"><span style="font-family:arial\;"><span style="color: rgb(5\, 5\, 5)\; caret-color: rgb(5\, 5\, 5)\;">Join a monthly roundtable discussion for our Chamber member non-profits. Our Non-Profit Alliance is a great way to bring awareness to your organization\, while fostering relationships with fellow non-profits.&nbsp\;<br />\n<br />\nInsurance--is your organization covered? Join us as we learn about the necessity of insurance and options for your non-profit. Kirby Arnall\, Jr. of Matrix Insurance will be our speaker.&nbsp\;</span><span style="color: rgb(0\, 0\, 0)\;">Kirby Arnall\, Jr. was born and raised in Newnan\, Ga. He is a graduate of The Heritage School and The University of Alabama where he earned a Bachelor of Science degree in Human Environmental Science with a concentration in Family Financial Planning and Counseling. Kirby is a fourth-generation insurance professional. His family has been continuously active in the insurance business since 1922. Prior to joining Matrix\, he participated in the FIPI program with The Cincinnati Insurance Company. Through this program\, he acquired techniques to mitigate risk for Commercial and Personal Insurance exposures.</span></span></span>
LOCATION:The Chamber 23 Bullsboro Drive Newnan\, GA 30263
UID:e.468.18634
SEQUENCE:3
DTSTAMP:20260422T161518Z
URL:https://www.newnancowetachamber.org/events/details/2023-non-profit-alliance-january-meeting-18634
END:VEVENT

END:VCALENDAR
