BEGIN:VCALENDAR
VERSION:2.0
PRODID:-//ChamberMaster//Event Calendar 2.0//EN
METHOD:PUBLISH
X-PUBLISHED-TTL:P3D
REFRESH-INTERVAL:P3D
CALSCALE:GREGORIAN
BEGIN:VEVENT
DTSTART:20230308T143000Z
DTEND:20230308T153000Z
X-MICROSOFT-CDO-ALLDAYEVENT:FALSE
SUMMARY:2023 Non-Profit Alliance March Meeting
DESCRIPTION:Join our monthly non-profit roundtable discussion\, designed specifically with our non-profit membership community in mind. This month\, bring your volunteer coordinator (or lead volunteer or appropriate board member) and learn about engaging corporate volunteers with Debra Cook\, Director of Clubhouse and Volunteer Services with Kate's Club and Kristie Wood\, Volunteer Coordinator with Salvation Army\, Metro Atlanta Area Command. \n\n\n\nAbout our speakers:\n\nDebra has been with Kate's Club since 2010. She received her Bachelor of Science in Recreation with an emphasis in Therapeutic Recreation from the University of Florida. She is certified through the National Council of Therapeutic Recreation and she received a Certificate of Non-Profit Volunteer Management from Georgia Center for Non-Profits. Her favorite part about working with Kate's Club is the sense of community she feels.\n\nKristie has been with The Salvation Army since 2014 in a variety of roles. She completed her Master's in Public Administration in October 2022 and is currently enrolled in a doctoral program in the same subject. In her spare time\, Kristie enjoys playing video games and hanging out with her cats."
X-ALT-DESC;FMTTYPE=text/html:<p><span style="color: rgb(5\, 5\, 5)\; font-family: tahoma\; font-size: 14px\; caret-color: rgb(5\, 5\, 5)\;">Join our monthly non-profit roundtable discussion\, designed specifically with our non-profit membership community in mind. This month\, bring your volunteer coordinator (or lead volunteer or appropriate board member) and learn about engaging corporate volunteers with Debra Cook\, Director of Clubhouse and Volunteer Services with Kate&#39\;s Club and Kristie Wood\, Volunteer Coordinator with Salvation Army\, Metro Atlanta Area Command.&nbsp\;<br />\n<br />\n<strong>About our speakers:</strong></span></p>\n\n<p><span style="font-size:14px\;"><span style="font-family:tahoma\;">Debra has been with Kate&#39\;s Club since 2010. She received her Bachelor of Science in Recreation with an emphasis in Therapeutic Recreation from the University of Florida. She is certified through the National Council of Therapeutic Recreation and she received a Certificate of Non-Profit Volunteer Management from Georgia Center for Non-Profits. Her favorite part about working with Kate&#39\;s Club is the sense of community she feels.</span></span></p>\n\n<p><span style="font-size:14px\;"><span style="font-family:tahoma\;">Kristie has been with The Salvation Army since 2014 in a variety of roles. She completed her Master&rsquo\;s in Public Administration in October 2022 and is currently enrolled in a doctoral program in the same subject. In her spare time\, Kristie enjoys playing video games and hanging out with her cats.&rdquo\;</span></span></p>\n
LOCATION:The Chamber 23 Bullsboro Dr. Newnan\, GA 30263
UID:e.468.18636
SEQUENCE:3
DTSTAMP:20260422T130500Z
URL:https://www.newnancowetachamber.org/events/details/2023-non-profit-alliance-march-meeting-18636
END:VEVENT

END:VCALENDAR
