BEGIN:VCALENDAR
VERSION:2.0
PRODID:-//ChamberMaster//Event Calendar 2.0//EN
METHOD:PUBLISH
X-PUBLISHED-TTL:P3D
REFRESH-INTERVAL:P3D
CALSCALE:GREGORIAN
BEGIN:VEVENT
DTSTART:20230427T123000Z
DTEND:20230427T140000Z
X-MICROSOFT-CDO-ALLDAYEVENT:FALSE
SUMMARY:2023 Pancakes and Politics (Georgia Legislature)
DESCRIPTION:*SPECIAL Celebration as the Chamber receives 5-Star Distinguished Re-Accreditation from the U.S. Chamber* Register\, Below!\n\n \n\nIf you haven't yet made breakfast plans\, join us on Thursday\, April 27th at 8:30AM at the Newnan Country Club for Pancakes and Politics and meet your Coweta legislative delegation and Chris Clark\, president and CEO of the Georgia Chamber.\n\nThe 2023 legislative session has ended\, and we're eager to learn more from our Coweta Delegates about what transpired under the Gold Dome. \n\nThis annual event allows members to hear first-hand from the Coweta Legislative Delegation about the recent legislative session - what passed\, what failed\, and what never made it to vote or carried over to the following year. \n\nGeorgia Chamber President and CEO Chris Clark moderates our panel AND presents an annual crowd-favorite New Georgia Economy update
X-ALT-DESC;FMTTYPE=text/html:<p><strong><span style="font-family:tahoma\,sans-serif\;"><span style="font-size:10.5pt\;">*SPECIAL Celebration as the Chamber receives 5-Star Distinguished Re-Accreditation from the U.S. Chamber* Register\, Below!</span></span></strong><br />\n&nbsp\;<br />\n<span style="font-family:tahoma\,sans-serif\;"><span style="font-size:10.5pt\;">If you haven&#39\;t yet made breakfast plans\, join us on Thursday\, April 27th at 8:30AM at the Newnan Country Club for Pancakes and Politics and meet your Coweta legislative delegation and Chris Clark\, president and CEO of the Georgia Chamber.</span></span></p>\n\n<p><span style="color:#333333\;"><span style="font-family:tahoma\,sans-serif\;"><span style="font-size:10.5pt\;">The 2023 legislative session has ended\, and we&#39\;re eager to learn more from our Coweta Delegates about&nbsp\;what transpired under the Gold Dome.&nbsp\;</span></span></span></p>\n\n<p><span style="font-family:tahoma\,sans-serif\;"><span style="font-size:10.5pt\;"><span background:font-size:="" trebuchet="">This annual event allows members to hear first-hand from the Coweta Legislative Delegation about the recent legislative session - what passed\, what failed\, and what never made it to vote or carried over to the following year.&nbsp\;</span></span></span></p>\n\n<p><span style="font-family:tahoma\,sans-serif\;"><span style="font-size:10.5pt\;"><span background:font-size:="" trebuchet="">Georgia Chamber President and CEO Chris Clark moderates our panel AND presents an annual crowd-favorite <a href="https://www.gachamber.com/ngetour/">New Georgia Economy</a> update</span></span></span></p>\n
LOCATION:Newnan Country Club 1356 Hwy 29 N Newnan\, Georgia 30263
UID:e.468.18618
SEQUENCE:3
DTSTAMP:20260422T112807Z
URL:https://www.newnancowetachamber.org/events/details/2023-pancakes-and-politics-georgia-legislature-18618
END:VEVENT

END:VCALENDAR
