BEGIN:VCALENDAR
VERSION:2.0
PRODID:-//ChamberMaster//Event Calendar 2.0//EN
METHOD:PUBLISH
X-PUBLISHED-TTL:P3D
REFRESH-INTERVAL:P3D
CALSCALE:GREGORIAN
BEGIN:VEVENT
DTSTART:20231109T133000Z
DTEND:20231109T143000Z
X-MICROSOFT-CDO-ALLDAYEVENT:FALSE
SUMMARY:2023 The Breakfast Club November
DESCRIPTION:Jumpstart your morning with the Newnan-Coweta Chamber and this month's host Popeye's in Sharpsburg for coffee\, light breakfast fare\, and camaraderie at this new spin on a popular member offering. \n\n\n\nRegistration is limited. Register now to ensure a spot!
X-ALT-DESC;FMTTYPE=text/html:<span style="font-family: tahoma\; font-size: 14px\; background-image: none\; background-position: initial\; background-size: initial\; background-repeat: initial\; background-attachment: initial\; background-origin: initial\; background-clip: initial\; box-sizing: content-box\; inset: auto\; clear: none\; color: rgb(68\, 68\, 68)\; content: normal\; direction: inherit\; empty-cells: show\; font-variant-numeric: inherit\; font-variant-east-asian: inherit\; font-stretch: inherit\; line-height: inherit\; margin: 0px\; max-height: none\; max-width: none\; min-height: initial\; min-width: initial\; opacity: 1\; outline-offset: 0px\; overflow: visible\; padding: 0px\; position: static\; resize: none\; table-layout: auto\; text-overflow: clip\; vertical-align: baseline\; visibility: inherit\; word-break: inherit\; overflow-wrap: inherit\; z-index: auto\; border: none\; border-collapse: separate\; border-radius: 0px\; height: auto\; width: auto\; box-shadow: none\;">Jumpstart your morning with the Newnan-Coweta Chamber and this month&#39\;s host Popeye&#39\;s in Sharpsburg for coffee\, light breakfast fare\, and camaraderie at this new spin on a popular member offering.&nbsp\;</span><br />\n<br style="color: inherit\; font: inherit\; letter-spacing: inherit\; text-align: inherit\; text-indent: inherit\; text-transform: inherit\; white-space: inherit\; word-spacing: inherit\; box-sizing: content-box\; inset: auto\; clear: none\; content: normal\; direction: inherit\; display: inline\; empty-cells: show\; float: none\; margin: 0px\; max-height: none\; max-width: none\; min-height: initial\; min-width: initial\; opacity: 1\; outline-offset: 0px\; overflow: visible\; padding: 0px\; position: static\; resize: none\; table-layout: auto\; text-overflow: clip\; vertical-align: baseline\; visibility: inherit\; word-break: inherit\; overflow-wrap: inherit\; z-index: auto\; background: none\; border: none\; border-collapse: separate\; border-radius: 0px\; height: auto\; width: auto\;" />\n<span style="font-family: tahoma\; font-size: 14px\; background-image: none\; background-position: initial\; background-size: initial\; background-repeat: initial\; background-attachment: initial\; background-origin: initial\; background-clip: initial\; box-sizing: border-box\; inset: auto\; clear: none\; color: rgb(68\, 68\, 68)\; content: normal\; direction: inherit\; empty-cells: show\; font-variant-numeric: inherit\; font-variant-east-asian: inherit\; font-stretch: inherit\; line-height: inherit\; margin: 0px\; max-height: none\; max-width: none\; min-height: initial\; min-width: initial\; opacity: 1\; outline-offset: 0px\; overflow: visible\; padding: 0px\; position: static\; resize: none\; table-layout: auto\; text-overflow: clip\; vertical-align: baseline\; visibility: inherit\; word-break: inherit\; overflow-wrap: inherit\; z-index: auto\; border: none\; border-collapse: separate\; border-radius: 0px\; height: auto\; width: auto\; box-shadow: none\;">Registration is limited. Register now to ensure a spot!&nbsp\;</span>
LOCATION:Popeye's 95 Fischer Crossing Drive Sharpsburg\, GA 30277
UID:e.468.18674
SEQUENCE:3
DTSTAMP:20260420T015853Z
URL:https://www.newnancowetachamber.org/events/details/2023-the-breakfast-club-november-18674
END:VEVENT

END:VCALENDAR
