BEGIN:VCALENDAR
VERSION:2.0
PRODID:-//ChamberMaster//Event Calendar 2.0//EN
METHOD:PUBLISH
X-PUBLISHED-TTL:P3D
REFRESH-INTERVAL:P3D
CALSCALE:GREGORIAN
BEGIN:VEVENT
DTSTART:20240817T150000Z
DTEND:20240817T180000Z
X-MICROSOFT-CDO-ALLDAYEVENT:FALSE
SUMMARY:30th Anniversary Celebration: Progressive Heating\, Air and Plumbing
DESCRIPTION:Please join the Newnan-Coweta Chamber in celebrating the 30th Anniversary of Progressive Heating\, Air and Plumbing! Serving Our Community Since 1994! Join them in celebrating their 30th Anniversary. For three decades\, Progressive Heating\, Air and Plumbing has proudly served Coweta County and Metro Atlanta. They provide a comprehensive range of HVAC and plumbing services for both residential and light commercial customers. Their service areas include Newnan\, Peachtree City\, Fayetteville\, Sharpsburg\, Senoia\, Chattahoochee Hills\, and more. They are proud to be part of such a vibrant community and look forward to celebrating this milestone with you. Join them for a fun-filled celebration with cornhole\, a food truck\, and exciting giveaways! Remember\, "It's Always Comfort O'Clock with Progressive Heating\, Air and Plumbing!"
X-ALT-DESC;FMTTYPE=text/html:Please join the Newnan-Coweta Chamber in celebrating the 30th Anniversary of Progressive Heating\, Air and Plumbing!&nbsp\;Serving Our Community Since 1994! Join them in celebrating their 30th Anniversary. For three decades\, Progressive Heating\, Air and Plumbing has proudly served Coweta County and Metro Atlanta. They provide a comprehensive range of HVAC and plumbing services for both residential and light commercial customers. Their service areas include Newnan\, Peachtree City\, Fayetteville\, Sharpsburg\, Senoia\, Chattahoochee Hills\, and more. They are proud to be part of such a vibrant community and look forward to celebrating this milestone with you. Join them for a fun-filled celebration with cornhole\, a food truck\, and exciting giveaways! Remember\, &quot\;It&#39\;s Always Comfort O&#39\;Clock with Progressive Heating\, Air and Plumbing!&quot\;
LOCATION:9 Tower Place Newnan\, GA 30263
UID:e.468.20446
SEQUENCE:3
DTSTAMP:20260420T033916Z
URL:https://www.newnancowetachamber.org/events/details/30th-anniversary-celebration-progressive-heating-air-and-plumbing-20446
END:VEVENT

END:VCALENDAR
