BEGIN:VCALENDAR
VERSION:2.0
PRODID:-//ChamberMaster//Event Calendar 2.0//EN
METHOD:PUBLISH
X-PUBLISHED-TTL:P3D
REFRESH-INTERVAL:P3D
CALSCALE:GREGORIAN
BEGIN:VEVENT
DTSTART;VALUE=DATE:20201007
DTEND;VALUE=DATE:20201008
TRANSP:TRANSPARENT
X-MICROSOFT-CDO-ALLDAYEVENT:TRUE
SUMMARY:35th Annual Golf Classic at the NEWNAN COUNTRY CLUB
DESCRIPTION:As you might imagine\, this year's tournament will be a bit different than in the years past\, but we're looking forward to delivering the exceptional experience that participants look forward to year-after-year.\n\n\n\nIn our efforts to accomplish this\, we have elected to move this year's tournament from White Oak Golf Club to the Newnan Country Club. Wait!  There's more.  In order to provide a safe\, healthy\, and positive experience for golfers\, exhibitors\, staff\, and volunteers\, this year's tournament will include TWO shotgun starts\, one beginning at 8AM and the other at 2PM\, with winners announced the following day via video celebration.\n\n\n\nAdditional details are to follow in the coming days\, especially regarding specific safety measures and protocols\, as well as detailed exhibitor information. For additional information or to register your team\, expo\, sponsorship\, or all of the above\, contact Susan at susan@newnancowetachamber.org.
X-ALT-DESC;FMTTYPE=text/html:<div arial="" background-color:="" condensed="" font-size:="" mt="" style="color: rgb(11\, 33\, 63)\; font-family: " white-space:=""><span style="color:#000000\;"><span style="font-size: 12pt\; font-family: Calibri\, sans-serif\;">As you might imagine\, this year&#39\;s tournament will be a bit different than in the years past\, but we&#39\;re looking forward to delivering the exceptional experience that participants look forward to year-after-year.</span></span><br />\n<br />\n<span style="color:#000000\;"><span style="font-size: 12pt\; font-family: Calibri\, sans-serif\;">In our efforts to accomplish this\, we have elected to move this year&#39\;s tournament from White Oak Golf Club to the <u>Newnan Country Club</u>. Wait!&nbsp\; There&#39\;s more.&nbsp\; In order to provide a safe\, healthy\, and positive experience for golfers\, exhibitors\, staff\, and volunteers\, this year&#39\;s tournament will include <em><u>TWO shotgun starts</u></em>\, one beginning at 8AM and the other at 2PM\, with winners announced the following day via&nbsp\;video celebration.<br />\n<br />\nAdditional details are to follow in the coming days\, especially regarding specific safety measures and protocols\, as well as detailed exhibitor information.&nbsp\;</span><span style="font-family:tahoma\;"><span style="font-size: 14px\; white-space: pre-wrap\;">For additional information or to register your team\, expo\, sponsorship\, or all of the above\, contact Susan at <strong><a href="mailto:susan@newnancowetachamber.org?subject=Golf%20Tournament">susan@newnancowetachamber.org</a></strong>.</span></span></span></div>\n
LOCATION:Newnan Country Club 1356 Hwy 29 N | Newnan
UID:e.468.15270
SEQUENCE:3
DTSTAMP:20260425T222949Z
URL:https://www.newnancowetachamber.org/events/details/35th-annual-golf-classic-at-the-newnan-country-club-15270
END:VEVENT

END:VCALENDAR
