BEGIN:VCALENDAR
VERSION:2.0
PRODID:-//ChamberMaster//Event Calendar 2.0//EN
METHOD:PUBLISH
X-PUBLISHED-TTL:P3D
REFRESH-INTERVAL:P3D
CALSCALE:GREGORIAN
BEGIN:VEVENT
DTSTART;VALUE=DATE:20230503
DTEND;VALUE=DATE:20230504
TRANSP:TRANSPARENT
X-MICROSOFT-CDO-ALLDAYEVENT:TRUE
SUMMARY:38th Annual Newnan-Coweta Chamber Golf Classic
DESCRIPTION:We're Swingin' through the Decades at the 38th Annual Golf Classic\, presented by Piedmont Newnan!\n\nHistorically held the first week in May\, the Newnan-Coweta Chamber Golf Classic is the premier event of the year south of Atlanta. Attracting more than 200 players and over 400 attendees\, the tournament includes ample sponsor and exhibitor opportunities\, allowing Chamber members to showcase their business services as an integral part of one of the Chamber's most important non-dues revenue fundraising events.\n\nIf you weren't able to join our Depths of Depp event in 2022 or you wish to "own" a bigger piece of the tournament next year\, now's the time to get on our radar!\n\n\n\n	\n\n	\n	Warm temps\, fresh\, green grass beneath your feet\, and an afternoon putting around with some of your closest pals...what could be better? Healthy competition\, camaraderie\, and rubbing elbows with your fellow Coweta businessmen and women - that's what!  We've crossed all the t's and dotted all of the i's in ensuring that we've left no bunker unturned in presenting an exceptional experience.\n\n	\n\n	LOOKING FOR SPONSORSHIP DETAILS?\n\n	Look no further. Click here for sponsorship registration or email susan@newnancowetachamber.org
X-ALT-DESC;FMTTYPE=text/html:<div class="cms-design-panel cms-widget editable published " id="content-369380" style="line-height: 1.2\; min-height: 10px\; box-sizing: border-box\; border: none !important\; list-style-type: none !important\; padding: 0px !important\; list-style-image: none !important\;">\n<p style="box-sizing: border-box\; margin: 0px 0px 10px\; font-size: 1rem\; line-height: 1.2\;"><strong><span style="font-size:14px\;"><span style="box-sizing: border-box\;"><span style="font-family:tahoma\;">We&#39\;re Swingin&#39\; through the Decades at the 38th Annual Golf Classic\, presented by Piedmont Newnan!</span></span></span></strong></p>\n\n<p style="box-sizing: border-box\; margin: 0px 0px 10px\; font-size: 1rem\; line-height: 1.2\;"><span style="font-size:14px\;"><span style="box-sizing: border-box\;"><span style="font-family:tahoma\;">Historically held the first week in May\, the Newnan-Coweta Chamber Golf Classic is the premier event of the year south of Atlanta</span>.&nbsp\;<span style="font-family:tahoma\;">Attracting more than 200 players and over 400 attendees\, the tournament includes ample sponsor and exhibitor opportunities\, allowing Chamber members to showcase their business services as an integral part of one of the Chamber&#39\;s most important non-dues revenue fundraising events.</span></span></span></p>\n\n<p style="box-sizing: border-box\; margin: 0px 0px 10px\; line-height: 1.2\;"><span style="font-family:tahoma\;"><span style="font-size:14px\;"><span style="box-sizing: border-box\;"><span style="box-sizing: border-box\;">If you weren&#39\;t able to join our Depths of Depp event in 2022&nbsp\;or you wish to &quot\;own&quot\; a bigger piece of the tournament next year\, now&#39\;s the time to get on our radar!</span></span></span></span></p>\n</div>\n\n<ul class="cms-widgets ui-sortable" style="padding-right: 0px\; padding-left: 0px\; box-sizing: border-box\; margin: 0px\; line-height: 1.2\; font-family: Calibri\, Verdana\, Geneva\, sans-serif\; font-size: 16px\;">\n	<li class="cms-widget editable published " contentid="185449" contenttypeid="6" order="3" pageareaid="5" style="box-sizing: border-box\; line-height: 1.2\; display: block\; min-height: 10px\; border: none !important\; list-style-type: none !important\; padding: 0px !important\; list-style-image: none !important\;"><cms font-kerning:="" font-size:="" font-variant-east-asian:="" font-variant-numeric:="" line-height:="" ms="" open="" sans="" style="box-sizing: border-box\;"></cms>\n\n	<div class="cms-design-panel" id="content-185449" style="box-sizing: border-box\;">\n	<p style="box-sizing: border-box\; margin: 0px 0px 10px\; font-size: 1rem\; line-height: 1.2\;"><span style="font-family:tahoma\;"><span style="font-size:14px\;"><span style="box-sizing: border-box\;">Warm temps\, fresh\, green grass beneath your feet\, and an afternoon putting around with some of your closest pals...what could be better? Healthy competition\, camaraderie\, and rubbing elbows with your fellow Coweta&nbsp\;businessmen and women - that&#39\;s what!&nbsp\; We&#39\;ve crossed all the t&#39\;s and dotted all of&nbsp\;the i&#39\;s&nbsp\;in&nbsp\;ensuring that we&#39\;ve left no bunker unturned in presenting an exceptional experience.<br />\n	<br />\n	<span style="color:#B22222\;"><strong>LOOKING FOR SPONSORSHIP DETAILS?</strong></span></span></span></span><br />\n	<span style="font-family:tahoma\;"><span style="font-size:14px\;"><span style="box-sizing: border-box\;">Look no further. <a href="https://chambermaster.blob.core.windows.net/userfiles/UserFiles/chambers/468/File/2023_SPONSORRegistrationForm.pdf">Click here for sponsorship registration</a> or email susan@newnancowetachamber.org</span></span></span></p>\n	</div>\n	</li>\n</ul>\n
LOCATION:White Oak Golf Club 141 Clubview Drive Newnan\, Georgia 30265
UID:e.468.18679
SEQUENCE:3
DTSTAMP:20260422T100033Z
URL:https://www.newnancowetachamber.org/events/details/38th-annual-newnan-coweta-chamber-golf-classic-18679
END:VEVENT

END:VCALENDAR
