BEGIN:VCALENDAR
VERSION:2.0
PRODID:-//ChamberMaster//Event Calendar 2.0//EN
METHOD:PUBLISH
X-PUBLISHED-TTL:P3D
REFRESH-INTERVAL:P3D
CALSCALE:GREGORIAN
BEGIN:VEVENT
DTSTART:20260506T123000Z
DTEND:20260506T210000Z
X-MICROSOFT-CDO-ALLDAYEVENT:FALSE
SUMMARY:41st Annual Golf Classic
DESCRIPTION:Annual Golf Classic
X-ALT-DESC;FMTTYPE=text/html:<span style="font-size:14px\;">Annual Golf Classic</span>
LOCATION:White Oak Golf Club 141 Clubview Dr. Newnan\, GA 30265
UID:e.468.21273
SEQUENCE:3
DTSTAMP:20260420T183943Z
URL:https://www.newnancowetachamber.org/events/details/41st-annual-golf-classic-21273
END:VEVENT

END:VCALENDAR
