BEGIN:VCALENDAR
VERSION:2.0
PRODID:-//ChamberMaster//Event Calendar 2.0//EN
METHOD:PUBLISH
X-PUBLISHED-TTL:P3D
REFRESH-INTERVAL:P3D
CALSCALE:GREGORIAN
BEGIN:VEVENT
DTSTART:20200908T143000Z
DTEND:20200908T153000Z
X-MICROSOFT-CDO-ALLDAYEVENT:FALSE
SUMMARY:Ambassador Committee Meeting
DESCRIPTION:Ambassador Committee VIRTUAL Roundtable Meeting\n\nThis is a virtual Ambassador roundtable so that we may have an open dialogue about where we go from here in this "next normal."  \n\nPlease register via the link below if you plan to attend the meeting on September 8th:\n\nWhen: Sep 8\, 2020 10:30 AM Eastern Time (US and Canada) \n\nRegister in advance for this meeting:\n\nhttps://zoom.us/meeting/register/tJAqd-uhrjMtE9UEKiTkEHtYgWjsH8mtpwYK \n\nAfter registering\, you will receive a confirmation email containing information about joining the meeting.
X-ALT-DESC;FMTTYPE=text/html:<span style="font-family:tahoma\;">Ambassador Committee VIRTUAL Roundtable Meeting<br />\nThis is a virtual Ambassador roundtable so that we may have an open&nbsp\;dialogue about where we go from here in this &quot\;next normal.&quot\;&nbsp\;&nbsp\;<br />\n<span style="color:black\;">Please register via the link below if you plan to attend the meeting on September 8th:</span><br />\n<span style="color:black\;">When: Sep 8\, 2020 10:30 AM Eastern Time (US and Canada)&nbsp\;</span><br />\n<span style="color:black\;">Register in advance for this meeting:</span><br />\n<span style="color:black\;"><a href="https://zoom.us/meeting/register/tJAqd-uhrjMtE9UEKiTkEHtYgWjsH8mtpwYK">https://zoom.us/meeting/register/tJAqd-uhrjMtE9UEKiTkEHtYgWjsH8mtpwYK</a>&nbsp\;</span></span><br />\n<span style="color:black\;"><span style="font-family:calibri\,sans-serif\;">After registering\, you will receive a confirmation email containing information about joining the meeting.</span></span><br />\n&nbsp\;
LOCATION:Virtual
UID:e.468.16778
SEQUENCE:3
DTSTAMP:20260425T233913Z
URL:https://www.newnancowetachamber.org/events/details/ambassador-committee-meeting-16778
END:VEVENT

END:VCALENDAR
