BEGIN:VCALENDAR
VERSION:2.0
PRODID:-//ChamberMaster//Event Calendar 2.0//EN
METHOD:PUBLISH
X-PUBLISHED-TTL:P3D
REFRESH-INTERVAL:P3D
CALSCALE:GREGORIAN
BEGIN:VEVENT
DTSTART:20201013T143000Z
DTEND:20201013T153000Z
X-MICROSOFT-CDO-ALLDAYEVENT:FALSE
SUMMARY:Ambassador Committee Meeting
DESCRIPTION:Ambassador Committee Meeting
X-ALT-DESC;FMTTYPE=text/html:Ambassador Committee Meeting
LOCATION:Virtual
UID:e.468.16797
SEQUENCE:3
DTSTAMP:20260425T220711Z
URL:https://www.newnancowetachamber.org/events/details/ambassador-committee-meeting-16797
END:VEVENT

END:VCALENDAR
