BEGIN:VCALENDAR
VERSION:2.0
PRODID:-//ChamberMaster//Event Calendar 2.0//EN
METHOD:PUBLISH
X-PUBLISHED-TTL:P3D
REFRESH-INTERVAL:P3D
CALSCALE:GREGORIAN
BEGIN:VEVENT
DTSTART:20230308T230000Z
DTEND:20230309T010000Z
X-MICROSOFT-CDO-ALLDAYEVENT:FALSE
SUMMARY:Appetizers and Applications
DESCRIPTION:Piedmont Encompass Health Rehabilitation Hospital of Newnan Hiring Event
X-ALT-DESC;FMTTYPE=text/html:Piedmont Encompass Health Rehabilitation Hospital of Newnan Hiring Event
LOCATION:Art & Jakes 510 Newnan Crossing Bypass Newnan\, GA 30265
UID:e.468.18791
SEQUENCE:3
DTSTAMP:20260422T130121Z
URL:https://www.newnancowetachamber.org/events/details/appetizers-and-applications-18791
END:VEVENT

END:VCALENDAR
