BEGIN:VCALENDAR
VERSION:2.0
PRODID:-//ChamberMaster//Event Calendar 2.0//EN
METHOD:PUBLISH
X-PUBLISHED-TTL:P3D
REFRESH-INTERVAL:P3D
CALSCALE:GREGORIAN
BEGIN:VEVENT
DTSTART:20201104T153000Z
DTEND:20201104T160000Z
X-MICROSOFT-CDO-ALLDAYEVENT:FALSE
SUMMARY:Back-to-Business: Advancing Coweta and Small Business Success
DESCRIPTION:Join Advancing Coweta small business committee members Harlan Hammock\, Pat Finneran\, and James Schram as panelists in thoughtfully outlining the steps necessary for Coweta's small businesses to ensure prosperity.\n\n\n\nThe precursor to a forthcoming FREE 4-part workshop\, this dynamic trio of business consultants will lay the groundwork for small businesses who wish to start 2021 with a decisive plan for success!
X-ALT-DESC;FMTTYPE=text/html:<span style="font-size:14px\;"><span style="font-family:tahoma\;"><span style="color: rgb(35\, 35\, 51)\;">Join Advancing Coweta small business committee members Harlan Hammock\, Pat Finneran\, and James Schram as panelists in thoughtfully outlining the steps necessary for Coweta&#39\;s small businesses to ensure prosperity.</span><br style="box-sizing: border-box\; color: rgb(35\, 35\, 51)\; font-family: Lato\, Helvetica\, Arial\; font-size: 14px\;" />\n<br style="box-sizing: border-box\; color: rgb(35\, 35\, 51)\; font-family: Lato\, Helvetica\, Arial\; font-size: 14px\;" />\n<span style="color: rgb(35\, 35\, 51)\;">The precursor to a forthcoming FREE 4-part workshop\, this dynamic trio of business consultants will lay the groundwork for small businesses who wish to start 2021 with a decisive plan for success!</span></span></span>
LOCATION:Virtual
UID:e.468.16836
SEQUENCE:3
DTSTAMP:20260425T205858Z
URL:https://www.newnancowetachamber.org/events/details/back-to-business-advancing-coweta-and-small-business-success-16836
END:VEVENT

END:VCALENDAR
