BEGIN:VCALENDAR
VERSION:2.0
PRODID:-//ChamberMaster//Event Calendar 2.0//EN
METHOD:PUBLISH
X-PUBLISHED-TTL:P3D
REFRESH-INTERVAL:P3D
CALSCALE:GREGORIAN
BEGIN:VEVENT
DTSTART:20201216T153000Z
DTEND:20201216T160000Z
X-MICROSOFT-CDO-ALLDAYEVENT:FALSE
SUMMARY:Back-to-Business: Advancing Coweta and Small Business Success
DESCRIPTION:Join us this month as Advancing Coweta Small Business committee leader Curphy Smith of ACS Executives shares data and insights customized for private and non-profit businesses that seek to secure funding amidst economic challenges presented by the pandemic.\n\n \n\nIn the ABC's of Getting Bank\, Smith will walk owners\, proprietors\, and executives through thoughtful strategies\, including creating and organizing the collateral needed when approaching financial institutions.
X-ALT-DESC;FMTTYPE=text/html:<span style="font-size:14px\;"><span style="font-family:tahoma\;"><span style="color:#4C4C4C\;">Join us this month as Advancing Coweta Small Business committee leader </span><span style="color:#444444\;"><a href="http://r20.rs6.net/tn.jsp?f=001xwpam05YMKRaLK5nukPIancLvGdN2F1HBkC8t-Ea79dvB7PUvKQ8eeFIxLbAgXzNfg4HnjUa0FDI2IL17nZ3q3oz4Fb3pGxAyH4NalS09KMMs5qqQFCiRybOqVmxYRAjKZt3oBTVgIGJHKNqTvV8ziWpW8kpXomg&amp\;c=jCbFlJt3-zl21VP7h58oHHkeoMXXNK1tXZteUX7Gz9zCVV3ajErNRQ==&amp\;ch=11YTE2JVJHAGWqgtnzjr2Hcf_p1UwyMjfag5bu41vgT9-a9rThauzA==" target="_blank"><span style="color:#A60000\;">Curphy Smith of ACS Executives</span></a></span><span style="color:#4C4C4C\;"> shares data and insights customized for private and non-profit businesses that seek to secure funding amidst economic challenges presented by the pandemic.</span><br />\n&nbsp\;<br />\n<span style="color:#444444\;">In the ABC&#39\;s of Getting Bank\, Smith will walk owners\, proprietors\, and executives through thoughtful strategies\, including creating and organizing the collateral needed when approaching financial institutions.&nbsp\;</span></span></span>
LOCATION:Virtual
UID:e.468.16847
SEQUENCE:3
DTSTAMP:20260425T192020Z
URL:https://www.newnancowetachamber.org/events/details/back-to-business-advancing-coweta-and-small-business-success-16847
END:VEVENT

END:VCALENDAR
