BEGIN:VCALENDAR
VERSION:2.0
PRODID:-//ChamberMaster//Event Calendar 2.0//EN
METHOD:PUBLISH
X-PUBLISHED-TTL:P3D
REFRESH-INTERVAL:P3D
CALSCALE:GREGORIAN
BEGIN:VEVENT
DTSTART:20201021T190000Z
DTEND:20201021T193000Z
X-MICROSOFT-CDO-ALLDAYEVENT:FALSE
SUMMARY:Back-to-Business: Business Development and Community Engagement
DESCRIPTION:Join us LIVE with Delta Community Credit Union's Jai Rogers\, Vice-President of Business and Community Development\, as she shares engagement strategies for strengthening civic and corporate collaborations. Jai will lend insight on several key tactics including employee engagement and its positive impact on culture and corporate success\, the value of corporate investment in communities\, and best practices for improving your brand\, reputation and bottom line.\n\n \n\nPrior to joining Delta Community in 2012\, Jai launched and directed the Corporate Development department at Children's Healthcare of Atlanta as the Corporate Development Officer. She and her staff cultivated corporate donors within Atlanta's large and mid-sized companies to tailor their philanthropic giving around the support of children\, wellness and research.\n\n \n\nJai holds a bachelor's degree in Urban Planning from California State University at Long Beach. She is past president of the Greater Atlanta Credit Union Chapter of Georgia Credit Union Affiliates and past president of the Board of Trustees for the Corporate Volunteer Council of Atlanta.\n\n \n\nShe has served on the boards of the Georgia Council for International Visitors\, the U.S. Fund for UNICEF   Atlanta\, and the Midtown Neighbors Association.\n\n \n\nClick here to register.
X-ALT-DESC;FMTTYPE=text/html:<span style="font-size:14px\;"><span style="font-family:tahoma\;">Join us LIVE with Delta Community Credit Union&#39\;s Jai Rogers\, Vice-President of Business and Community Development\, as she shares engagement strategies for strengthening civic and corporate collaborations. Jai will lend insight on several key tactics including employee engagement and its positive impact on culture and corporate success\, the value of corporate investment in communities\, and best practices for improving your brand\, reputation and bottom line.<br />\n&nbsp\;<br />\nPrior to joining Delta Community in 2012\, Jai launched and directed the Corporate Development department at Children&rsquo\;s Healthcare of Atlanta as the Corporate Development Officer. She and her staff cultivated corporate donors within Atlanta&#39\;s large and mid-sized companies to tailor their philanthropic giving around the support of children\, wellness and research.<br />\n&nbsp\;<br />\nJai holds a bachelor&rsquo\;s degree in Urban Planning from California State University at Long Beach. She is past president of the Greater Atlanta Credit Union Chapter of Georgia Credit Union Affiliates and past president of the Board of Trustees for the Corporate Volunteer Council of Atlanta.<br />\n&nbsp\;<br />\nShe has served on the boards of the Georgia Council for International Visitors\, the U.S. Fund for UNICEF &ndash\; Atlanta\, and the Midtown Neighbors Association.<br />\n&nbsp\;<br />\n<a href="https://zoom.us/meeting/register/tJcldeiopzsrH9HS_diD2_2MhtkWei8Q2vvW">Click here to register.&nbsp\;</a></span></span>
LOCATION:Virtual | Click here to register
UID:e.468.16828
SEQUENCE:3
DTSTAMP:20260425T222509Z
URL:https://www.newnancowetachamber.org/events/details/back-to-business-business-development-and-community-engagement-16828
END:VEVENT

END:VCALENDAR
