BEGIN:VCALENDAR
VERSION:2.0
PRODID:-//ChamberMaster//Event Calendar 2.0//EN
METHOD:PUBLISH
X-PUBLISHED-TTL:P3D
REFRESH-INTERVAL:P3D
CALSCALE:GREGORIAN
BEGIN:VEVENT
DTSTART:20200819T190000Z
DTEND:20200819T193000Z
X-MICROSOFT-CDO-ALLDAYEVENT:FALSE
SUMMARY:Back to Business: Business Operations and Legal Liability\, Part 2
DESCRIPTION:Join the Newnan-Coweta Chamber\, presenting sponsor Delta Community Credit Union\, and labor and employment attorneys Mel Haas and Graham Newsome from Constangy Brooks Smith & Prophete for part two of our legal info-share and updates relating to COVID-19 and business operations as the pandemic persists in Georgia.\n\n \n\nClick here to register
X-ALT-DESC;FMTTYPE=text/html:<span style="font-family:tahoma\;"><span style="color:#403F42\;"><span style="font-size:10.5pt\;">Join the Newnan-Coweta Chamber\, presenting sponsor Delta Community Credit Union\, and labor and employment attorneys Mel Haas and Graham Newsome from Constangy Brooks Smith &amp\; Prophete for part two of our legal info-share and updates relating to COVID-19 and business operations as the pandemic persists in Georgia.</span></span><br />\n&nbsp\;<br />\n<span style="color:#403F42\;"><span style="font-size:9.0pt\;"><a href="http://r20.rs6.net/tn.jsp?f=001unUl6raOJimR7ZOy2dThPgUUm0FBxlzrVS_53GdJSGyTrTaqAK0N0IhwMzWKKW84Lzo5VetmdE635fUlMsKK5nFYa9LO4VhykIoE6o_PLcn6-4qN_aPxNTceGtrNAp7O1Daa7vLyFVh2f6EMib3Dha90iRG-3fmWqquH7lKEdcRUp-n2E2iH7WKQLAVI3gCw5ZBLwh-0NCTCjXxTUDWI7w==&amp\;c=lp1_vRYE6P-VA0g_i4kmdF8hsXM123UGjwHhUfEGL0AYgP8bfEZCRA==&amp\;ch=5bb7ojqng2VOYSAxy8m4mIbq3IbwIbRoFEWsvoOJ3xUeSTYTaBm-Yw==" target="_blank"><span style="color:#A60000\;"><span style="font-size:10.5pt\;">Click here to register</span></span></a></span></span></span>
LOCATION:Virtual - Register for Zoom link
UID:e.468.16722
SEQUENCE:3
DTSTAMP:20260426T013042Z
URL:https://www.newnancowetachamber.org/events/details/back-to-business-business-operations-and-legal-liability-part-2-16722
END:VEVENT

END:VCALENDAR
